OziExplorer Map Data File Version 2.2
Rw.TIF
Rw.TIF
1 ,Map Code,
WGS 84,WGS 84, 0.0000, 0.0000,WGS 84
Reserved 1
Reserved 2
Magnetic Variation,,,E
Map Projection,Latitude/Longitude,PolyCal,No,AutoCalOnly,No,BSBUseWPX,No
Point01,xy, 324, 1455,in, deg, 0, 1.99998,N, 29,46.00002,E, grid, , , ,N
Point02,xy, 719, 729,in, deg, 0, 30,N, 30, 0,E, grid, , , ,N
Point03,xy, 432, 966,in, deg, 0, 20.4996,N, 29,48.66666,E, grid, , , ,N
Point04,xy, 1148, 494,in, deg, 0,40.00002,N, 30,16.99998,E, grid, , , ,N
Point05,xy, 749, 1208,in, deg, 0, 12,N, 30, 0,E, grid, , , ,N
Point06,xy, 553, 993,in, deg, 0,19.99998,N, 29,52.99998,E, grid, , , ,N
Point07,xy, 1044, 182,in, deg, 0, 51,N, 30, 12,E, grid, , , ,N
Point08,xy, 715, 1541,in, deg, 0, 0,N, 30, 0,E, grid, , , ,N
Point09,xy, 593, 838,in, deg, 0,25.99998,N, 29,55.00002,E, grid, , , ,N
Point10,xy, , ,in, deg, , ,N, , ,W, grid, , , ,N
Point11,xy, , ,in, deg, , ,N, , ,W, grid, , , ,N
Point12,xy, , ,in, deg, , ,N, , ,W, grid, , , ,N
Point13,xy, , ,in, deg, , ,N, , ,W, grid, , , ,N
Point14,xy, , ,in, deg, , ,N, , ,W, grid, , , ,N
Point15,xy, , ,in, deg, , ,N, , ,W, grid, , , ,N
Point16,xy, , ,in, deg, , ,N, , ,W, grid, , , ,N
Point17,xy, , ,in, deg, , ,N, , ,W, grid, , , ,N
Point18,xy, , ,in, deg, , ,N, , ,W, grid, , , ,N
Point19,xy, , ,in, deg, , ,N, , ,W, grid, , , ,N
Point20,xy, , ,in, deg, , ,N, , ,W, grid, , , ,N
Point21,xy, , ,in, deg, , ,N, , ,W, grid, , , ,N
Point22,xy, , ,in, deg, , ,N, , ,W, grid, , , ,N
Point23,xy, , ,in, deg, , ,N, , ,W, grid, , , ,N
Point24,xy, , ,in, deg, , ,N, , ,W, grid, , , ,N
Point25,xy, , ,in, deg, , ,N, , ,W, grid, , , ,N
Point26,xy, , ,in, deg, , ,N, , ,W, grid, , , ,N
Point27,xy, , ,in, deg, , ,N, , ,W, grid, , , ,N
Point28,xy, , ,in, deg, , ,N, , ,W, grid, , , ,N
Point29,xy, , ,in, deg, , ,N, , ,W, grid, , , ,N
Point30,xy, , ,in, deg, , ,N, , ,W, grid, , , ,N
Projection Setup,,,,,,,,,,
Map Feature = MF ; Map Comment = MC These follow if they exist
Track File = TF These follow if they exist
Moving Map Parameters = MM? These follow if they exist
MM0,Yes
MMPNUM,4
MMPXY,1,0,0
MMPXY,2,1251,0
MMPXY,3,1251,1631
MMPXY,4,0,1631
MMPLL,1, 29.529714, 0.923914
MMPLL,2, 30.334480, 0.974370
MMPLL,3, 30.345288, -0.036530
MMPLL,4, 29.540521, -0.086986
MM1B,71.619697
MOP,Map Open Position,0,0
IWH,Map Image Width/Height,1251,1631
