OziExplorer Map Data File Version 2.2
Central_Rwenz.PNG
Central_Rwenz.PNG
1 ,Map Code,
WGS 84,WGS 84, 0.0000, 0.0000,WGS 84
Reserved 1
Reserved 2
Magnetic Variation,,,E
Map Projection,Mercator,PolyCal,No,AutoCalOnly,No,BSBUseWPX,Yes
Point01,xy, 283, 1282,ex, deg, , ,N, , ,E, grid, 35, 812927, 0037810,N
Point02,xy, 609, 1190,ex, deg, , ,N, , ,W, grid, 35, 816145, 0038795,N
Point03,xy, 1105, 777,in, deg, 0,22.99998,N, 29,52.99998,E, grid, , , ,N
Point04,xy, 2001, 1662,in, deg, 0,19.00002,N, 29,58.00002,E, grid, 35, , ,N
Point05,xy, 1851, 281,in, deg, 0,25.99998,N, 29, 57,E, grid, 35, , ,N
Point06,xy, 1386, 325,in, deg, 0,25.99998,N, 29, 54,E, grid, 35, , ,N
Point07,xy, 896, 1808,in, deg, 0,16.99998,N, 29,52.00002,E, grid, 35, , ,N
Point08,xy, 1349, 2031,in, deg, 0,16.00002,N, 29, 54,E, grid, 35, , ,N
Point09,xy, 1755, 1288,in, deg, 0,19.99998,N, 29, 57,E, grid, 35, , ,N
Point10,xy, , ,in, deg, , ,N, , ,W, grid, , , ,N
Point11,xy, , ,in, deg, , ,N, , ,W, grid, , , ,N
Point12,xy, , ,in, deg, , ,N, , ,W, grid, , , ,N
Point13,xy, , ,in, deg, , ,N, , ,W, grid, , , ,N
Point14,xy, , ,in, deg, , ,N, , ,W, grid, , , ,N
Point15,xy, , ,in, deg, , ,N, , ,W, grid, , , ,N
Point16,xy, , ,in, deg, , ,N, , ,W, grid, , , ,N
Point17,xy, , ,in, deg, , ,N, , ,W, grid, , , ,N
Point18,xy, , ,in, deg, , ,N, , ,W, grid, , , ,N
Point19,xy, , ,in, deg, , ,N, , ,W, grid, , , ,N
Point20,xy, , ,in, deg, , ,N, , ,W, grid, , , ,N
Point21,xy, , ,in, deg, , ,N, , ,W, grid, , , ,N
Point22,xy, , ,in, deg, , ,N, , ,W, grid, , , ,N
Point23,xy, , ,in, deg, , ,N, , ,W, grid, , , ,N
Point24,xy, , ,in, deg, , ,N, , ,W, grid, , , ,N
Point25,xy, , ,in, deg, , ,N, , ,W, grid, , , ,N
Point26,xy, , ,in, deg, , ,N, , ,W, grid, , , ,N
Point27,xy, , ,in, deg, , ,N, , ,W, grid, , , ,N
Point28,xy, , ,in, deg, , ,N, , ,W, grid, , , ,N
Point29,xy, , ,in, deg, , ,N, , ,W, grid, , , ,N
Point30,xy, , ,in, deg, , ,N, , ,W, grid, , , ,N
Projection Setup,,,,,,,,,,
Map Feature = MF ; Map Comment = MC These follow if they exist
Track File = TF These follow if they exist
Moving Map Parameters = MM? These follow if they exist
MM0,Yes
MMPNUM,4
MMPXY,1,0,0
MMPXY,2,2264,0
MMPXY,3,2264,2233
MMPXY,4,0,2233
MMPLL,1, 29.770882, 0.446300
MMPLL,2, 29.988601, 0.467669
MMPLL,3, 29.995665, 0.256795
MMPLL,4, 29.777946, 0.235425
MM1B,10.714051
MOP,Map Open Position,0,0
IWH,Map Image Width/Height,2264,2233
