OziExplorer Map Data File Version 2.2
Turquia-oeste.ozf2
C:\documentos\santiago\turquia\turquia-oeste.ozf2
1 ,Map Code,
WGS 84,WGS 84, 0.0000, 0.0000,WGS 84
Reserved 1
Reserved 2
Magnetic Variation,,,E
Map Projection,(UTM) Universal Transverse Mercator,PolyCal,No,AutoCalOnly,No,BSBUseWPX,No
Point01,xy, 1446, 1052,in, deg, 41, 0.5976,N, 27, 43.0050,E, grid, , , ,N
Point02,xy, 4594, 347,in, deg, 41, 47.1156,N, 32, 32.3502,E, grid, , , ,N
Point03,xy, 6240, 65,in, deg, 42, 0.5134,N, 35, 6.4872,E, grid, , , ,N
Point04,xy, 6486, 3156,in, deg, 38, 28.2798,N, 35, 9.6210,E, grid, , , ,N
Point05,xy, 4720, 3706,in, deg, 37, 57.0102,N, 32, 33.2130,E, grid, , , ,N
Point06,xy, 4058, 4799,in, deg, 36, 43.6368,N, 31, 32.9856,E, grid, , , ,N
Point07,xy, 2430, 4018,in, deg, 37, 37.7586,N, 29, 13.0362,E, grid, , , ,N
Point08,xy, 1002, 2730,in, deg, 39, 4.8714,N, 27, 7.1172,E, grid, , , ,N
Point09,xy, 5682, 3317,in, deg, 38, 21.3960,N, 33, 58.2858,E, grid, , , ,N
Point10,xy, , ,in, deg, , ,N, , ,W, grid, , , ,N
Point11,xy, , ,in, deg, , ,N, , ,W, grid, , , ,N
Point12,xy, , ,in, deg, , ,N, , ,W, grid, , , ,N
Point13,xy, , ,in, deg, , ,N, , ,W, grid, , , ,N
Point14,xy, , ,in, deg, , ,N, , ,W, grid, , , ,N
Point15,xy, , ,in, deg, , ,N, , ,W, grid, , , ,N
Point16,xy, , ,in, deg, , ,N, , ,W, grid, , , ,N
Point17,xy, , ,in, deg, , ,N, , ,W, grid, , , ,N
Point18,xy, , ,in, deg, , ,N, , ,W, grid, , , ,N
Point19,xy, , ,in, deg, , ,N, , ,W, grid, , , ,N
Point20,xy, , ,in, deg, , ,N, , ,W, grid, , , ,N
Point21,xy, , ,in, deg, , ,N, , ,W, grid, , , ,N
Point22,xy, , ,in, deg, , ,N, , ,W, grid, , , ,N
Point23,xy, , ,in, deg, , ,N, , ,W, grid, , , ,N
Point24,xy, , ,in, deg, , ,N, , ,W, grid, , , ,N
Point25,xy, , ,in, deg, , ,N, , ,W, grid, , , ,N
Point26,xy, , ,in, deg, , ,N, , ,W, grid, , , ,N
Point27,xy, , ,in, deg, , ,N, , ,W, grid, , , ,N
Point28,xy, , ,in, deg, , ,N, , ,W, grid, , , ,N
Point29,xy, , ,in, deg, , ,N, , ,W, grid, , , ,N
Point30,xy, , ,in, deg, , ,N, , ,W, grid, , , ,N
Projection Setup,,,,,,,,,,
Map Feature = MF ; Map Comment = MC These follow if they exist
Track File = TF These follow if they exist
Moving Map Parameters = MM? These follow if they exist
MM0,Yes
MMPNUM,4
MMPXY,1,0,0
MMPXY,2,6500,0
MMPXY,3,6500,5412
MMPXY,4,0,5412
MMPLL,1, 25.455934, 42.160357
MMPLL,2, 35.504844, 42.059430
MMPLL,3, 34.983601, 35.919533
MMPLL,4, 25.774264, 35.974611
MM1B,127.795085
MOP,Map Open Position,0,0
IWH,Map Image Width/Height,6500,5412
