OziExplorer Map Data File Version 2.2
Turquia-este.ozf2
C:\documentos\santiago\turquia\turquia-este.ozf2
1 ,Map Code,
WGS 84,WGS 84, 0.0000, 0.0000,WGS 84
Reserved 1
Reserved 2
Magnetic Variation,,,E
Map Projection,(UTM) Universal Transverse Mercator,PolyCal,No,AutoCalOnly,No,BSBUseWPX,No
Point01,xy, 894, 389,in, deg, 41, 34.1994,N, 35, 52.5240,E, grid, , , ,N
Point02,xy, 4785, 3433,in, deg, 38, 7.7934,N, 41, 43.0722,E, grid, , , ,N
Point03,xy, 1788, 4350,in, deg, 37, 4.4418,N, 37, 23.7066,E, grid, , , ,N
Point04,xy, 1698, 2483,in, deg, 39, 12.6360,N, 37, 12.0432,E, grid, , , ,N
Point05,xy, 290, 3077,in, deg, 38, 28.2798,N, 35, 9.6210,E, grid, , , ,N
Point06,xy, 2383, 3261,in, deg, 38, 20.1636,N, 38, 14.1000,E, grid, , , ,N
Point07,xy, 6276, 2153,in, deg, 39, 32.3946,N, 43, 59.0802,E, grid, , , ,N
Point08,xy, 5843, 2599,in, deg, 39, 3.3786,N, 43, 19.6074,E, grid, , , ,N
Point09,xy, 4012, 4271,in, deg, 37, 11.1594,N, 40, 35.8080,E, grid, , , ,N
Point10,xy, , ,in, deg, , ,N, , ,W, grid, , , ,N
Point11,xy, , ,in, deg, , ,N, , ,W, grid, , , ,N
Point12,xy, , ,in, deg, , ,N, , ,W, grid, , , ,N
Point13,xy, , ,in, deg, , ,N, , ,W, grid, , , ,N
Point14,xy, , ,in, deg, , ,N, , ,W, grid, , , ,N
Point15,xy, , ,in, deg, , ,N, , ,W, grid, , , ,N
Point16,xy, , ,in, deg, , ,N, , ,W, grid, , , ,N
Point17,xy, , ,in, deg, , ,N, , ,W, grid, , , ,N
Point18,xy, , ,in, deg, , ,N, , ,W, grid, , , ,N
Point19,xy, , ,in, deg, , ,N, , ,W, grid, , , ,N
Point20,xy, , ,in, deg, , ,N, , ,W, grid, , , ,N
Point21,xy, , ,in, deg, , ,N, , ,W, grid, , , ,N
Point22,xy, , ,in, deg, , ,N, , ,W, grid, , , ,N
Point23,xy, , ,in, deg, , ,N, , ,W, grid, , , ,N
Point24,xy, , ,in, deg, , ,N, , ,W, grid, , , ,N
Point25,xy, , ,in, deg, , ,N, , ,W, grid, , , ,N
Point26,xy, , ,in, deg, , ,N, , ,W, grid, , , ,N
Point27,xy, , ,in, deg, , ,N, , ,W, grid, , , ,N
Point28,xy, , ,in, deg, , ,N, , ,W, grid, , , ,N
Point29,xy, , ,in, deg, , ,N, , ,W, grid, , , ,N
Point30,xy, , ,in, deg, , ,N, , ,W, grid, , , ,N
Projection Setup,,,,,,,,,,
Map Feature = MF ; Map Comment = MC These follow if they exist
Track File = TF These follow if they exist
Moving Map Parameters = MM? These follow if they exist
MM0,Yes
MMPNUM,4
MMPXY,1,0,0
MMPXY,2,6956,0
MMPXY,3,6956,5396
MMPXY,4,0,5396
MMPLL,1, 34.477523, 41.971210
MMPLL,2, 45.196773, 41.928122
MMPLL,3, 44.728795, 35.824811
MMPLL,4, 34.904712, 35.786394
MM1B,127.679679
MOP,Map Open Position,0,0
IWH,Map Image Width/Height,6956,5396
