OziExplorer Map Data File Version 2.2
M888 - 091
\091.gif
1 ,Map Code,
Datum Lisboa (Portugal),WGS 84, 0.0000, 0.0000,WGS 84
Reserved 1
Reserved 2
Magnetic Variation,,,W
Map Projection,Transverse Mercator,PolyCal,No,AutoCalOnly,No,BSBUseWPX,No
Point01,xy, 334, 333,in, deg, , ,N, , ,W, grid, , 281000, 499000,N
Point02,xy, 4999, 3000,in, deg, , ,N, , ,W, grid, , 295000, 491000,N
Point03,xy, 5001, 337,in, deg, , ,N, , ,W, grid, , 295000, 499000,N
Point04,xy, 337, 3000,in, deg, , ,N, , ,W, grid, , 281000, 491000,N
Point05,xy, 2000, 999,in, deg, , ,N, , ,W, grid, , 286000, 497000,N
Point06,xy, 3668, 2334,in, deg, , ,N, , ,W, grid, , 291000, 493000,N
Point07,xy, 3669, 1001,in, deg, , ,N, , ,W, grid, , 291000, 497000,N
Point08,xy, 2000, 2333,in, deg, , ,N, , ,W, grid, , 286000, 493000,N
Point09,xy, 3002, 1666,in, deg, , ,N, , ,W, grid, , 289000, 495000,N
Point10,xy, , ,in, deg, , ,N, , ,W, grid, 29, , ,N
Point11,xy, , ,in, deg, , ,N, , ,W, grid, 29, , ,N
Point12,xy, , ,in, deg, , ,N, , ,W, grid, 29, , ,N
Point13,xy, , ,in, deg, , ,N, , ,W, grid, 29, , ,N
Point14,xy, , ,in, deg, , ,N, , ,W, grid, 29, , ,N
Point15,xy, , ,in, deg, , ,N, , ,W, grid, 29, , ,N
Point16,xy, , ,in, deg, , ,N, , ,W, grid, 29, , ,N
Point17,xy, , ,in, deg, , ,N, , ,W, grid, 29, , ,N
Point18,xy, , ,in, deg, , ,N, , ,W, grid, 29, , ,N
Point19,xy, , ,in, deg, , ,N, , ,W, grid, 29, , ,N
Point20,xy, , ,in, deg, , ,N, , ,W, grid, 29, , ,N
Point21,xy, , ,in, deg, , ,N, , ,W, grid, 29, , ,N
Point22,xy, , ,in, deg, , ,N, , ,W, grid, 29, , ,N
Point23,xy, , ,in, deg, , ,N, , ,W, grid, 29, , ,N
Point24,xy, , ,in, deg, , ,N, , ,W, grid, 29, , ,N
Point25,xy, , ,in, deg, , ,N, , ,W, grid, 29, , ,N
Point26,xy, , ,in, deg, , ,N, , ,W, grid, 29, , ,N
Point27,xy, , ,in, deg, , ,N, , ,W, grid, 29, , ,N
Point28,xy, , ,in, deg, , ,N, , ,W, grid, 29, , ,N
Point29,xy, , ,in, deg, , ,N, , ,W, grid, 29, , ,N
Point30,xy, , ,in, deg, , ,N, , ,W, grid, 29, , ,N
Projection Setup, 39.666666667, -8.131906667, 1.000000000, 200000.00, 300000.00,,,,,
Map Feature = MF ; Map Comment = MC These follow if they exist
Track File = TF These follow if they exist
Moving Map Parameters = MM? These follow if they exist
MM0,Yes
MMPNUM,4
MMPXY,1,0,0
MMPXY,2,5336,0
MMPXY,3,5336,3336
MMPXY,4,0,3336
MMPLL,1, -7.174426, 41.463688
MMPLL,2, -6.982801, 41.461999
MMPLL,3, -6.984397, 41.371866
MMPLL,4, -7.175758, 41.373549
MM1B,3.000140
LL Grid Setup
LLGRID,No,No Grid,Yes,255,16711680,0,Geen label,0,16777215,7,1,Yes,x
Other Grid Setup
GRGRID,Yes,1 Km,No,8388608,12632256,1 Km,8388608,16777215,8,1,Yes,No,Yes,x
MOP,Map Open Position,0,0
IWH,Map Image Width/Height,5336,3336
