OziExplorer Map Data File Version 2.2
M888 - 089
\089.gif
1 ,Map Code,
European 1950 (Portugal),WGS 84, 0.0000, 0.0000,WGS 84
Reserved 1
Reserved 2
Magnetic Variation,,,W
Map Projection,(UTM) Universal Transverse Mercator,PolyCal,No,AutoCalOnly,No,BSBUseWPX,No
Point01,xy, 170, 310,in, deg, , ,N, , ,W, grid, 29, 621000, 4591000,N
Point02,xy, 5142, 3024,in, deg, , ,N, , ,W, grid, 29, 636000, 4583000,N
Point03,xy, 5172, 27,in, deg, , ,N, , ,W, grid, 29, 636000, 4592000,N
Point04,xy, 139, 3310,in, deg, , ,N, , ,W, grid, 29, 621000, 4582000,N
Point05,xy, 1827, 1327,in, deg, , ,N, , ,W, grid, 29, 626000, 4588000,N
Point06,xy, 3485, 2009,in, deg, , ,N, , ,W, grid, 29, 631000, 4586000,N
Point07,xy, 3496, 1010,in, deg, , ,N, , ,W, grid, 29, 631000, 4589000,N
Point08,xy, 1816, 2326,in, deg, , ,N, , ,W, grid, 29, 626000, 4585000,N
Point09,xy, 2813, 2669,in, deg, , ,N, , ,W, grid, 29, 629000, 4584000,N
Point10,xy, , ,in, deg, , ,N, , ,W, grid, , , ,N
Point11,xy, , ,in, deg, , ,N, , ,W, grid, , , ,N
Point12,xy, , ,in, deg, , ,N, , ,W, grid, , , ,N
Point13,xy, , ,in, deg, , ,N, , ,W, grid, , , ,N
Point14,xy, , ,in, deg, , ,N, , ,W, grid, , , ,N
Point15,xy, , ,in, deg, , ,N, , ,W, grid, , , ,N
Point16,xy, , ,in, deg, , ,N, , ,W, grid, , , ,N
Point17,xy, , ,in, deg, , ,N, , ,W, grid, , , ,N
Point18,xy, , ,in, deg, , ,N, , ,W, grid, , , ,N
Point19,xy, , ,in, deg, , ,N, , ,W, grid, , , ,N
Point20,xy, , ,in, deg, , ,N, , ,W, grid, , , ,N
Point21,xy, , ,in, deg, , ,N, , ,W, grid, , , ,N
Point22,xy, , ,in, deg, , ,N, , ,W, grid, , , ,N
Point23,xy, , ,in, deg, , ,N, , ,W, grid, , , ,N
Point24,xy, , ,in, deg, , ,N, , ,W, grid, , , ,N
Point25,xy, , ,in, deg, , ,N, , ,W, grid, , , ,N
Point26,xy, , ,in, deg, , ,N, , ,W, grid, , , ,N
Point27,xy, , ,in, deg, , ,N, , ,W, grid, , , ,N
Point28,xy, , ,in, deg, , ,N, , ,W, grid, , , ,N
Point29,xy, , ,in, deg, , ,N, , ,W, grid, , , ,N
Point30,xy, , ,in, deg, , ,N, , ,W, grid, , , ,N
Projection Setup, 39.666666667, -8.131906667, 1.000000000, 200000.00, 300000.00,,,,,
Map Feature = MF ; Map Comment = MC These follow if they exist
Track File = TF These follow if they exist
Moving Map Parameters = MM? These follow if they exist
MM0,Yes
MMPNUM,4
MMPXY,1,0,0
MMPXY,2,5336,0
MMPXY,3,5336,3336
MMPXY,4,0,3336
MMPLL,1, -7.557247, 41.469184
MMPLL,2, -7.365563, 41.468024
MMPLL,3, -7.366602, 41.377859
MMPLL,4, -7.558022, 41.379012
MM1B,3.000375
LL Grid Setup
LLGRID,No,No Grid,Yes,255,16711680,0,Geen label,0,16777215,7,1,Yes,x
Other Grid Setup
GRGRID,Yes,1 Km,No,8388608,12632256,1 Km,8388608,16777215,8,1,Yes,No,Yes,x
MOP,Map Open Position,0,0
IWH,Map Image Width/Height,5336,3336
