OziExplorer Map Data File Version 2.2
M888 - 083
\083.gif
1 ,Map Code,
European 1950 (Portugal),WGS 84, 0.0000, 0.0000,WGS 84
Reserved 1
Reserved 2
Magnetic Variation,,,W
Map Projection,(UTM) Universal Transverse Mercator,PolyCal,No,AutoCalOnly,No,BSBUseWPX,No
Point01,xy, 158, 657,in, deg, , ,N, , ,W, grid, 29, 525000, 4589000,N
Point02,xy, 5131, 3040,in, deg, , ,N, , ,W, grid, 29, 540000, 4582000,N
Point03,xy, 5162, 41,in, deg, , ,N, , ,W, grid, 29, 540000, 4591000,N
Point04,xy, 131, 3323,in, deg, , ,N, , ,W, grid, 29, 525000, 4581000,N
Point05,xy, 1817, 1341,in, deg, , ,N, , ,W, grid, 29, 530000, 4587000,N
Point06,xy, 3476, 2024,in, deg, , ,N, , ,W, grid, 29, 535000, 4585000,N
Point07,xy, 3486, 1025,in, deg, , ,N, , ,W, grid, 29, 535000, 4588000,N
Point08,xy, 1807, 2339,in, deg, , ,N, , ,W, grid, 29, 530000, 4584000,N
Point09,xy, 2803, 2683,in, deg, , ,N, , ,W, grid, 29, 533000, 4583000,N
Point10,xy, , ,in, deg, , ,N, , ,W, grid, 29, , ,N
Point11,xy, , ,in, deg, , ,N, , ,W, grid, 29, , ,N
Point12,xy, , ,in, deg, , ,N, , ,W, grid, 29, , ,N
Point13,xy, , ,in, deg, , ,N, , ,W, grid, 29, , ,N
Point14,xy, , ,in, deg, , ,N, , ,W, grid, 29, , ,N
Point15,xy, , ,in, deg, , ,N, , ,W, grid, 29, , ,N
Point16,xy, , ,in, deg, , ,N, , ,W, grid, 29, , ,N
Point17,xy, , ,in, deg, , ,N, , ,W, grid, 29, , ,N
Point18,xy, , ,in, deg, , ,N, , ,W, grid, 29, , ,N
Point19,xy, , ,in, deg, , ,N, , ,W, grid, 29, , ,N
Point20,xy, , ,in, deg, , ,N, , ,W, grid, 29, , ,N
Point21,xy, , ,in, deg, , ,N, , ,W, grid, 29, , ,N
Point22,xy, , ,in, deg, , ,N, , ,W, grid, 29, , ,N
Point23,xy, , ,in, deg, , ,N, , ,W, grid, 29, , ,N
Point24,xy, , ,in, deg, , ,N, , ,W, grid, 29, , ,N
Point25,xy, , ,in, deg, , ,N, , ,W, grid, 29, , ,N
Point26,xy, , ,in, deg, , ,N, , ,W, grid, 29, , ,N
Point27,xy, , ,in, deg, , ,N, , ,W, grid, 29, , ,N
Point28,xy, , ,in, deg, , ,N, , ,W, grid, 29, , ,N
Point29,xy, , ,in, deg, , ,N, , ,W, grid, 29, , ,N
Point30,xy, , ,in, deg, , ,N, , ,W, grid, 29, , ,N
Projection Setup, 39.666666667, -8.131906667, 1.000000000, 200000.00, 300000.00,,,,,
Map Feature = MF ; Map Comment = MC These follow if they exist
Track File = TF These follow if they exist
Moving Map Parameters = MM? These follow if they exist
MM0,Yes
MMPNUM,4
MMPXY,1,0,0
MMPXY,2,5336,0
MMPXY,3,5336,3331
MMPXY,4,0,3331
MMPLL,1, -8.706545, 41.469208
MMPLL,2, -8.514746, 41.470015
MMPLL,3, -8.514196, 41.379971
MMPLL,4, -8.705730, 41.379163
MM1B,3.001486
LL Grid Setup
LLGRID,No,No Grid,Yes,255,16711680,0,Geen label,0,16777215,7,1,Yes,x
Other Grid Setup
GRGRID,Yes,1 Km,No,8388608,12632256,1 Km,8388608,16777215,8,1,Yes,No,Yes,x
MOP,Map Open Position,0,0
IWH,Map Image Width/Height,5336,3336
