OziExplorer Map Data File Version 2.2
M888 - 068
\068.gif
1 ,Map Code,
Datum Lisboa (Portugal),WGS 84, 0.0000, 0.0000,WGS 84
Reserved 1
Reserved 2
Magnetic Variation,,,W
Map Projection,Transverse Mercator,PolyCal,No,AutoCalOnly,No,BSBUseWPX,No
Point01,xy, 335, 332,in, deg, , ,N, , ,W, grid, , 137000, 509000,N
Point02,xy, 5003, 3001,in, deg, , ,N, , ,W, grid, , 151000, 501000,N
Point03,xy, 5003, 332,in, deg, , ,N, , ,W, grid, , 151000, 509000,N
Point04,xy, 335, 3004,in, deg, , ,N, , ,W, grid, , 137000, 501000,N
Point05,xy, 2003, 1001,in, deg, , ,N, , ,W, grid, , 142000, 507000,N
Point06,xy, 3669, 2333,in, deg, , ,N, , ,W, grid, , 147000, 503000,N
Point07,xy, 3669, 1001,in, deg, , ,N, , ,W, grid, , 147000, 507000,N
Point08,xy, 2002, 2334,in, deg, , ,N, , ,W, grid, , 142000, 503000,N
Point09,xy, 3003, 1668,in, deg, , ,N, , ,W, grid, , 145000, 505000,N
Point10,xy, , ,in, deg, , ,N, , ,W, grid, , , ,N
Point11,xy, , ,in, deg, , ,N, , ,W, grid, , , ,N
Point12,xy, , ,in, deg, , ,N, , ,W, grid, , , ,N
Point13,xy, , ,in, deg, , ,N, , ,W, grid, , , ,N
Point14,xy, , ,in, deg, , ,N, , ,W, grid, , , ,N
Point15,xy, , ,in, deg, , ,N, , ,W, grid, , , ,N
Point16,xy, , ,in, deg, , ,N, , ,W, grid, , , ,N
Point17,xy, , ,in, deg, , ,N, , ,W, grid, , , ,N
Point18,xy, , ,in, deg, , ,N, , ,W, grid, , , ,N
Point19,xy, , ,in, deg, , ,N, , ,W, grid, , , ,N
Point20,xy, , ,in, deg, , ,N, , ,W, grid, , , ,N
Point21,xy, , ,in, deg, , ,N, , ,W, grid, , , ,N
Point22,xy, , ,in, deg, , ,N, , ,W, grid, , , ,N
Point23,xy, , ,in, deg, , ,N, , ,W, grid, , , ,N
Point24,xy, , ,in, deg, , ,N, , ,W, grid, , , ,N
Point25,xy, , ,in, deg, , ,N, , ,W, grid, , , ,N
Point26,xy, , ,in, deg, , ,N, , ,W, grid, , , ,N
Point27,xy, , ,in, deg, , ,N, , ,W, grid, , , ,N
Point28,xy, , ,in, deg, , ,N, , ,W, grid, , , ,N
Point29,xy, , ,in, deg, , ,N, , ,W, grid, , , ,N
Point30,xy, , ,in, deg, , ,N, , ,W, grid, , , ,N
Projection Setup, 39.666666667, -8.131906667, 1.000000000, 200000.00, 300000.00,,,,,
Map Feature = MF ; Map Comment = MC These follow if they exist
Track File = TF These follow if they exist
Moving Map Parameters = MM? These follow if they exist
MM0,Yes
MMPNUM,4
MMPXY,1,0,0
MMPXY,2,5337,0
MMPXY,3,5337,3337
MMPXY,4,0,3337
MMPLL,1, -8.899090, 41.555149
MMPLL,2, -8.707237, 41.556224
MMPLL,3, -8.706432, 41.466186
MMPLL,4, -8.898019, 41.465114
MM1B,2.997811
LL Grid Setup
LLGRID,No,No Grid,Yes,255,16711680,0,Geen label,0,16777215,7,1,Yes,x
Other Grid Setup
GRGRID,Yes,1 Km,No,8388608,12632256,1 Km,8388608,16777215,8,1,Yes,No,Yes,x
MOP,Map Open Position,0,0
IWH,Map Image Width/Height,5337,3337
