OziExplorer Map Data File Version 2.2
M888 - 037
\037.gif
1 ,Map Code,
European 1950 (Portugal),WGS 84, 0.0000, 0.0000,WGS 84
Reserved 1
Reserved 2
Magnetic Variation,,,W
Map Projection,(UTM) Universal Transverse Mercator,PolyCal,No,AutoCalOnly,No,BSBUseWPX,No
Point01,xy, 308, 133,in, deg, , ,N, , ,W, grid, 29, 669000, 4632000,N
Point02,xy, 5276, 3182,in, deg, , ,N, , ,W, grid, 29, 684000, 4623000,N
Point03,xy, 5306, 185,in, deg, , ,N, , ,W, grid, 29, 684000, 4632000,N
Point04,xy, 277, 3133,in, deg, , ,N, , ,W, grid, 29, 669000, 4623000,N
Point05,xy, 1631, 1146,in, deg, , ,N, , ,W, grid, 29, 673000, 4629000,N
Point06,xy, 3620, 2166,in, deg, , ,N, , ,W, grid, 29, 679000, 4626000,N
Point07,xy, 3297, 1163,in, deg, , ,N, , ,W, grid, 29, 678000, 4629000,N
Point08,xy, 1954, 2149,in, deg, , ,N, , ,W, grid, 29, 674000, 4626000,N
Point09,xy, 2947, 2827,in, deg, , ,N, , ,W, grid, 29, 677000, 4624000,N
Point10,xy, , ,in, deg, , ,N, , ,W, grid, , , ,N
Point11,xy, , ,in, deg, , ,N, , ,W, grid, , , ,N
Point12,xy, , ,in, deg, , ,N, , ,W, grid, , , ,N
Point13,xy, , ,in, deg, , ,N, , ,W, grid, , , ,N
Point14,xy, , ,in, deg, , ,N, , ,W, grid, , , ,N
Point15,xy, , ,in, deg, , ,N, , ,W, grid, , , ,N
Point16,xy, , ,in, deg, , ,N, , ,W, grid, , , ,N
Point17,xy, , ,in, deg, , ,N, , ,W, grid, , , ,N
Point18,xy, , ,in, deg, , ,N, , ,W, grid, , , ,N
Point19,xy, , ,in, deg, , ,N, , ,W, grid, , , ,N
Point20,xy, , ,in, deg, , ,N, , ,W, grid, , , ,N
Point21,xy, , ,in, deg, , ,N, , ,W, grid, , , ,N
Point22,xy, , ,in, deg, , ,N, , ,W, grid, , , ,N
Point23,xy, , ,in, deg, , ,N, , ,W, grid, , , ,N
Point24,xy, , ,in, deg, , ,N, , ,W, grid, , , ,N
Point25,xy, , ,in, deg, , ,N, , ,W, grid, , , ,N
Point26,xy, , ,in, deg, , ,N, , ,W, grid, , , ,N
Point27,xy, , ,in, deg, , ,N, , ,W, grid, , , ,N
Point28,xy, , ,in, deg, , ,N, , ,W, grid, , , ,N
Point29,xy, , ,in, deg, , ,N, , ,W, grid, , , ,N
Point30,xy, , ,in, deg, , ,N, , ,W, grid, , , ,N
Projection Setup, 39.666666667, -8.131906667, 1.000000000, 200000.00, 300000.00,,,,,
Map Feature = MF ; Map Comment = MC These follow if they exist
Track File = TF These follow if they exist
Moving Map Parameters = MM? These follow if they exist
MM0,Yes
MMPNUM,4
MMPXY,1,0,0
MMPXY,2,5336,0
MMPXY,3,5336,3336
MMPXY,4,0,3336
MMPLL,1, -6.976259, 41.824843
MMPLL,2, -6.783549, 41.822747
MMPLL,3, -6.785432, 41.732627
MMPLL,4, -6.977873, 41.734713
MM1B,3.000644
LL Grid Setup
LLGRID,No,No Grid,Yes,255,16711680,0,Geen label,0,16777215,7,1,Yes,x
Other Grid Setup
GRGRID,Yes,1 Km,No,8388608,12632256,1 Km,8388608,16777215,8,1,Yes,No,Yes,x
MOP,Map Open Position,0,0
IWH,Map Image Width/Height,5336,3336
