OziExplorer Map Data File Version 2.2
M888 - 022
\022.GIF
1 ,Map Code,
Datum Lisboa (Portugal),WGS 84, 0.0000, 0.0000,WGS 84
Reserved 1
Reserved 2
Magnetic Variation,,,W
Map Projection,Transverse Mercator,PolyCal,No,AutoCalOnly,No,BSBUseWPX,No
Point01,xy, 337, 332,in, deg, , ,N, , ,W, grid, , 265000, 549000,N
Point02,xy, 5001, 3000,in, deg, , ,N, , ,W, grid, , 279000, 541000,N
Point03,xy, 5003, 335,in, deg, , ,N, , ,W, grid, , 279000, 549000,N
Point04,xy, 335, 3001,in, deg, , ,N, , ,W, grid, , 265000, 541000,N
Point05,xy, 2001, 1000,in, deg, , ,N, , ,W, grid, , 270000, 547000,N
Point06,xy, 3668, 2332,in, deg, , ,N, , ,W, grid, , 275000, 543000,N
Point07,xy, 3670, 1001,in, deg, , ,N, , ,W, grid, , 275000, 547000,N
Point08,xy, 1999, 2333,in, deg, , ,N, , ,W, grid, , 270000, 543000,N
Point09,xy, 3003, 1667,in, deg, , ,N, , ,W, grid, , 273000, 545000,N
Point10,xy, , ,in, deg, , ,N, , ,W, grid, , , ,N
Point11,xy, , ,in, deg, , ,N, , ,W, grid, , , ,N
Point12,xy, , ,in, deg, , ,N, , ,W, grid, , , ,N
Point13,xy, , ,in, deg, , ,N, , ,W, grid, , , ,N
Point14,xy, , ,in, deg, , ,N, , ,W, grid, , , ,N
Point15,xy, , ,in, deg, , ,N, , ,W, grid, , , ,N
Point16,xy, , ,in, deg, , ,N, , ,W, grid, , , ,N
Point17,xy, , ,in, deg, , ,N, , ,W, grid, , , ,N
Point18,xy, , ,in, deg, , ,N, , ,W, grid, , , ,N
Point19,xy, , ,in, deg, , ,N, , ,W, grid, , , ,N
Point20,xy, , ,in, deg, , ,N, , ,W, grid, , , ,N
Point21,xy, , ,in, deg, , ,N, , ,W, grid, , , ,N
Point22,xy, , ,in, deg, , ,N, , ,W, grid, , , ,N
Point23,xy, , ,in, deg, , ,N, , ,W, grid, , , ,N
Point24,xy, , ,in, deg, , ,N, , ,W, grid, , , ,N
Point25,xy, , ,in, deg, , ,N, , ,W, grid, , , ,N
Point26,xy, , ,in, deg, , ,N, , ,W, grid, , , ,N
Point27,xy, , ,in, deg, , ,N, , ,W, grid, , , ,N
Point28,xy, , ,in, deg, , ,N, , ,W, grid, , , ,N
Point29,xy, , ,in, deg, , ,N, , ,W, grid, , , ,N
Point30,xy, , ,in, deg, , ,N, , ,W, grid, , , ,N
Projection Setup, 39.666666667, -8.131906667, 1.000000000, 200000.00, 300000.00,,,,,
Map Feature = MF ; Map Comment = MC These follow if they exist
Track File = TF These follow if they exist
Moving Map Parameters = MM? These follow if they exist
MM0,Yes
MMPNUM,4
MMPXY,1,0,0
MMPXY,2,5336,0
MMPXY,3,5336,3336
MMPXY,4,0,3336
MMPLL,1, -7.360614, 41.915244
MMPLL,2, -7.167693, 41.913813
MMPLL,3, -7.168938, 41.823714
MMPLL,4, -7.361588, 41.825141
MM1B,2.999135
LL Grid Setup
LLGRID,No,No Grid,Yes,255,16711680,0,Geen label,0,16777215,7,1,Yes,x
Other Grid Setup
GRGRID,Yes,1 Km,No,8388608,12632256,1 Km,8388608,16777215,8,1,Yes,No,Yes,x
MOP,Map Open Position,0,0
IWH,Map Image Width/Height,5337,3336
