OziExplorer Map Data File Version 2.2
M888 - 087
\087.gif
1 ,Map Code,
European 1950 (Portugal),WGS 84, 0.0000, 0.0000,WGS 84
Reserved 1
Reserved 2
Magnetic Variation,,,W
Map Projection,(UTM) Universal Transverse Mercator,PolyCal,No,AutoCalOnly,No,BSBUseWPX,No
Point01,xy, 162, 200,in, deg, , ,N, , ,W, grid, 29, 589000, 4591000,N
Point02,xy, 5136, 3252,in, deg, , ,N, , ,W, grid, 29, 604000, 4582000,N
Point03,xy, 5167, 252,in, deg, , ,N, , ,W, grid, 29, 604000, 4591000,N
Point04,xy, 134, 3202,in, deg, , ,N, , ,W, grid, 29, 589000, 4582000,N
Point05,xy, 1821, 1217,in, deg, , ,N, , ,W, grid, 29, 594000, 4588000,N
Point06,xy, 3478, 2235,in, deg, , ,N, , ,W, grid, 29, 599000, 4585000,N
Point07,xy, 3489, 1234,in, deg, , ,N, , ,W, grid, 29, 599000, 4588000,N
Point08,xy, 1812, 2217,in, deg, , ,N, , ,W, grid, 29, 594000, 4585000,N
Point09,xy, 2805, 2895,in, deg, , ,N, , ,W, grid, 29, 597000, 4583000,N
Point10,xy, , ,in, deg, , ,N, , ,W, grid, 29, , ,N
Point11,xy, , ,in, deg, , ,N, , ,W, grid, 29, , ,N
Point12,xy, , ,in, deg, , ,N, , ,W, grid, 29, , ,N
Point13,xy, , ,in, deg, , ,N, , ,W, grid, 29, , ,N
Point14,xy, , ,in, deg, , ,N, , ,W, grid, 29, , ,N
Point15,xy, , ,in, deg, , ,N, , ,W, grid, 29, , ,N
Point16,xy, , ,in, deg, , ,N, , ,W, grid, 29, , ,N
Point17,xy, , ,in, deg, , ,N, , ,W, grid, 29, , ,N
Point18,xy, , ,in, deg, , ,N, , ,W, grid, 29, , ,N
Point19,xy, , ,in, deg, , ,N, , ,W, grid, 29, , ,N
Point20,xy, , ,in, deg, , ,N, , ,W, grid, 29, , ,N
Point21,xy, , ,in, deg, , ,N, , ,W, grid, 29, , ,N
Point22,xy, , ,in, deg, , ,N, , ,W, grid, 29, , ,N
Point23,xy, , ,in, deg, , ,N, , ,W, grid, 29, , ,N
Point24,xy, , ,in, deg, , ,N, , ,W, grid, 29, , ,N
Point25,xy, , ,in, deg, , ,N, , ,W, grid, 29, , ,N
Point26,xy, , ,in, deg, , ,N, , ,W, grid, 29, , ,N
Point27,xy, , ,in, deg, , ,N, , ,W, grid, 29, , ,N
Point28,xy, , ,in, deg, , ,N, , ,W, grid, 29, , ,N
Point29,xy, , ,in, deg, , ,N, , ,W, grid, 29, , ,N
Point30,xy, , ,in, deg, , ,N, , ,W, grid, 29, , ,N
Projection Setup, 39.666666667, -8.131906667, 1.000000000, 200000.00, 300000.00,,,,,
Map Feature = MF ; Map Comment = MC These follow if they exist
Track File = TF These follow if they exist
Moving Map Parameters = MM? These follow if they exist
MM0,Yes
MMPNUM,4
MMPXY,1,0,0
MMPXY,2,5335,0
MMPXY,3,5335,3334
MMPXY,4,0,3334
MMPLL,1, -7.940122, 41.470345
MMPLL,2, -7.748614, 41.469896
MMPLL,3, -7.749161, 41.379852
MMPLL,4, -7.940405, 41.380297
MM1B,2.997741
LL Grid Setup
LLGRID,No,No Grid,Yes,255,16711680,0,Geen label,0,16777215,7,1,Yes,x
Other Grid Setup
GRGRID,Yes,1 Km,No,8388608,12632256,1 Km,8388608,16777215,8,1,Yes,No,Yes,x
MOP,Map Open Position,0,0
IWH,Map Image Width/Height,5336,3336
