OziExplorer Map Data File Version 2.2
M888 - 054
\054.gif
1 ,Map Code,
Datum Lisboa (Portugal),WGS 84, 0.0000, 0.0000,WGS 84
Reserved 1
Reserved 2
Magnetic Variation,,,W
Map Projection,Transverse Mercator,PolyCal,No,AutoCalOnly,No,BSBUseWPX,No
Point01,xy, 334, 336,in, deg, , ,N, , ,W, grid, , 137000, 519000,N
Point02,xy, 5001, 3001,in, deg, , ,N, , ,W, grid, , 151000, 511000,N
Point03,xy, 5000, 334,in, deg, , ,N, , ,W, grid, , 151000, 519000,N
Point04,xy, 333, 2999,in, deg, , ,N, , ,W, grid, , 137000, 511000,N
Point05,xy, 2002, 1002,in, deg, , ,N, , ,W, grid, , 142000, 517000,N
Point06,xy, 3669, 2335,in, deg, , ,N, , ,W, grid, , 147000, 513000,N
Point07,xy, 3668, 1001,in, deg, , ,N, , ,W, grid, , 147000, 517000,N
Point08,xy, 2001, 2335,in, deg, , ,N, , ,W, grid, , 142000, 513000,N
Point09,xy, 3001, 1668,in, deg, , ,N, , ,W, grid, , 145000, 515000,N
Point10,xy, , ,in, deg, , ,N, , ,W, grid, , , ,N
Point11,xy, , ,in, deg, , ,N, , ,W, grid, , , ,N
Point12,xy, , ,in, deg, , ,N, , ,W, grid, , , ,N
Point13,xy, , ,in, deg, , ,N, , ,W, grid, , , ,N
Point14,xy, , ,in, deg, , ,N, , ,W, grid, , , ,N
Point15,xy, , ,in, deg, , ,N, , ,W, grid, , , ,N
Point16,xy, , ,in, deg, , ,N, , ,W, grid, , , ,N
Point17,xy, , ,in, deg, , ,N, , ,W, grid, , , ,N
Point18,xy, , ,in, deg, , ,N, , ,W, grid, , , ,N
Point19,xy, , ,in, deg, , ,N, , ,W, grid, , , ,N
Point20,xy, , ,in, deg, , ,N, , ,W, grid, , , ,N
Point21,xy, , ,in, deg, , ,N, , ,W, grid, , , ,N
Point22,xy, , ,in, deg, , ,N, , ,W, grid, , , ,N
Point23,xy, , ,in, deg, , ,N, , ,W, grid, , , ,N
Point24,xy, , ,in, deg, , ,N, , ,W, grid, , , ,N
Point25,xy, , ,in, deg, , ,N, , ,W, grid, , , ,N
Point26,xy, , ,in, deg, , ,N, , ,W, grid, , , ,N
Point27,xy, , ,in, deg, , ,N, , ,W, grid, , , ,N
Point28,xy, , ,in, deg, , ,N, , ,W, grid, , , ,N
Point29,xy, , ,in, deg, , ,N, , ,W, grid, , , ,N
Point30,xy, , ,in, deg, , ,N, , ,W, grid, , , ,N
Projection Setup, 39.666666667, -8.131906667, 1.000000000, 200000.00, 300000.00,,,,,
Map Feature = MF ; Map Comment = MC These follow if they exist
Track File = TF These follow if they exist
Moving Map Parameters = MM? These follow if they exist
MM0,Yes
MMPNUM,4
MMPXY,1,0,0
MMPXY,2,5336,0
MMPXY,3,5336,3337
MMPXY,4,0,3337
MMPLL,1, -8.900116, 41.645236
MMPLL,2, -8.708005, 41.646356
MMPLL,3, -8.707203, 41.556185
MMPLL,4, -8.899047, 41.555068
MM1B,2.998234
LL Grid Setup
LLGRID,No,No Grid,Yes,255,16711680,0,Geen label,0,16777215,7,1,Yes,x
Other Grid Setup
GRGRID,Yes,1 Km,No,8388608,12632256,1 Km,8388608,16777215,8,1,Yes,No,Yes,x
MOP,Map Open Position,0,0
IWH,Map Image Width/Height,5336,3337
