OziExplorer Map Data File Version 2.2
ZIMBABWE.PNG
F:\mapas\africa\Africa Este (rusos) 1-500.000\ZIMBABWE.PNG
1 ,Map Code,
WGS 84,, 0.0000, 0.0000,WGS 84
Reserved 1
Reserved 2
Magnetic Variation,,,E
Map Projection,Latitude/Longitude,PolyCal,Yes,AutoCalOnly,No,BSBUseWPX,No
Point01,xy, 349, 142,in, deg, 16, 0.0000,S, 28, 0.0000,E, grid, , , ,
Point02,xy, 575, 140,in, deg, 16, 0.0000,S, 30, 0.0000,E, grid, , , ,
Point03,xy, 800, 140,in, deg, 16, 0.0000,S, 32, 0.0000,E, grid, , , ,
Point04,xy, 353, 375,in, deg, 18, 0.0000,S, 28, 0.0000,E, grid, , , ,
Point05,xy, 575, 373,in, deg, 18, 0.0000,S, 30, 0.0000,E, grid, , , ,
Point06,xy, 798, 373,in, deg, 18, 0.0000,S, 32, 0.0000,E, grid, , , ,
Point07,xy, 356, 608,in, deg, 20, 0.0000,S, 28, 0.0000,E, grid, , , ,
Point08,xy, 576, 606,in, deg, 20, 0.0000,S, 30, 0.0000,E, grid, , , ,
Point09,xy, 797, 606,in, deg, 20, 0.0000,S, 32, 0.0000,E, grid, , , ,
Point10,xy, , ,in, deg, , ,, , ,, grid, , , ,
Point11,xy, , ,in, deg, , ,, , ,, grid, , , ,
Point12,xy, , ,in, deg, , ,, , ,, grid, , , ,
Point13,xy, , ,in, deg, , ,, , ,, grid, , , ,
Point14,xy, , ,in, deg, , ,, , ,, grid, , , ,
Point15,xy, , ,in, deg, , ,, , ,, grid, , , ,
Point16,xy, , ,in, deg, , ,, , ,, grid, , , ,
Point17,xy, , ,in, deg, , ,, , ,, grid, , , ,
Point18,xy, , ,in, deg, , ,, , ,, grid, , , ,
Point19,xy, , ,in, deg, , ,, , ,, grid, , , ,
Point20,xy, , ,in, deg, , ,, , ,, grid, , , ,
Point21,xy, , ,in, deg, , ,, , ,, grid, , , ,
Point22,xy, , ,in, deg, , ,, , ,, grid, , , ,
Point23,xy, , ,in, deg, , ,, , ,, grid, , , ,
Point24,xy, , ,in, deg, , ,, , ,, grid, , , ,
Point25,xy, , ,in, deg, , ,, , ,, grid, , , ,
Point26,xy, , ,in, deg, , ,, , ,, grid, , , ,
Point27,xy, , ,in, deg, , ,, , ,, grid, , , ,
Point28,xy, , ,in, deg, , ,, , ,, grid, , , ,
Point29,xy, , ,in, deg, , ,, , ,, grid, , , ,
Point30,xy, , ,in, deg, , ,, , ,, grid, , , ,
Projection Setup,,,,,,,,,,
Map Feature = MF ; Map Comment = MC These follow if they exist
Track File = TF These follow if they exist
Moving Map Parameters = MM? These follow if they exist
MM0,Yes
MMPNUM,4
MMPXY,1,0,3
MMPXY,2,999,0
MMPXY,3,983,974
MMPXY,4,0,982
MMPLL,1, 24.928330, -14.747072
MMPLL,2, 33.739026, -14.784330
MMPLL,3, 33.733333, -23.144914
MMPLL,4, 24.642775, -23.142893
MM1B,950.258005
LL Grid Setup
LLGRID,No,No Grid,Yes,255,16711680,0,No Labels,0,16777215,7,1,Yes,x
Other Grid Setup
GRGRID,No,No Grid,Yes,255,16711680,No Labels,0,16777215,8,1,Yes,No,No,x
MOP,Map Open Position,0,0
IWH,Map Image Width/Height,2500,1250
