OziExplorer Map Data File Version 2.2
ZAMBIA.PNG
F:\mapas\africa\Africa Este (rusos) 1-500.000\ZAMBIA.PNG
1 ,Map Code,
WGS 84,, 0.0000, 0.0000,WGS 84
Reserved 1
Reserved 2
Magnetic Variation,,,E
Map Projection,Latitude/Longitude,PolyCal,Yes,AutoCalOnly,No,BSBUseWPX,No
Point01,xy, 263, 231,in, deg, 10, 0.0000,S, 25, 0.0000,E, grid, , , ,
Point02,xy, 456, 229,in, deg, 10, 0.0000,S, 27, 30.0000,E, grid, , , ,
Point03,xy, 648, 228,in, deg, 10, 0.0000,S, 30, 0.0000,E, grid, , , ,
Point04,xy, 271, 620,in, deg, 15, 0.0000,S, 25, 0.0000,E, grid, , , ,
Point05,xy, 458, 618,in, deg, 15, 0.0000,S, 27, 30.0000,E, grid, , , ,
Point06,xy, 645, 618,in, deg, 15, 0.0000,S, 30, 0.0000,E, grid, , , ,
Point07,xy, 277, 1006,in, deg, 20, 0.0000,S, 25, 0.0000,E, grid, , , ,
Point08,xy, 460, 1004,in, deg, 20, 0.0000,S, 27, 30.0000,E, grid, , , ,
Point09,xy, 641, 1005,in, deg, 20, 0.0000,S, 30, 0.0000,E, grid, , , ,
Point10,xy, , ,in, deg, , ,, , ,, grid, , , ,
Point11,xy, , ,in, deg, , ,, , ,, grid, , , ,
Point12,xy, , ,in, deg, , ,, , ,, grid, , , ,
Point13,xy, , ,in, deg, , ,, , ,, grid, , , ,
Point14,xy, , ,in, deg, , ,, , ,, grid, , , ,
Point15,xy, , ,in, deg, , ,, , ,, grid, , , ,
Point16,xy, , ,in, deg, , ,, , ,, grid, , , ,
Point17,xy, , ,in, deg, , ,, , ,, grid, , , ,
Point18,xy, , ,in, deg, , ,, , ,, grid, , , ,
Point19,xy, , ,in, deg, , ,, , ,, grid, , , ,
Point20,xy, , ,in, deg, , ,, , ,, grid, , , ,
Point21,xy, , ,in, deg, , ,, , ,, grid, , , ,
Point22,xy, , ,in, deg, , ,, , ,, grid, , , ,
Point23,xy, , ,in, deg, , ,, , ,, grid, , , ,
Point24,xy, , ,in, deg, , ,, , ,, grid, , , ,
Point25,xy, , ,in, deg, , ,, , ,, grid, , , ,
Point26,xy, , ,in, deg, , ,, , ,, grid, , , ,
Point27,xy, , ,in, deg, , ,, , ,, grid, , , ,
Point28,xy, , ,in, deg, , ,, , ,, grid, , , ,
Point29,xy, , ,in, deg, , ,, , ,, grid, , , ,
Point30,xy, , ,in, deg, , ,, , ,, grid, , , ,
Projection Setup,,,,,,,,,,
Map Feature = MF ; Map Comment = MC These follow if they exist
Track File = TF These follow if they exist
Moving Map Parameters = MM? These follow if they exist
MM0,Yes
MMPNUM,4
MMPXY,1,0,6
MMPXY,2,1023,0
MMPXY,3,982,1180
MMPXY,4,3,1179
MMPLL,1, 21.727422, -7.036809
MMPLL,2, 34.828350, -7.038781
MMPLL,3, 34.825994, -22.185300
MMPLL,4, 21.184860, -22.180936
MM1B,1396.434712
LL Grid Setup
LLGRID,No,No Grid,Yes,255,16711680,0,No Labels,0,16777215,7,1,Yes,x
Other Grid Setup
GRGRID,No,No Grid,Yes,255,16711680,No Labels,0,16777215,8,1,Yes,No,No,x
MOP,Map Open Position,0,0
IWH,Map Image Width/Height,2500,1250
