OziExplorer Map Data File Version 2.2
WESTERNSAHARA.PNG
F:\mapas\africa\Africa Este (rusos) 1-500.000\WESTERNSAHARA.PNG
1 ,Map Code,
WGS 84,, 0.0000, 0.0000,WGS 84
Reserved 1
Reserved 2
Magnetic Variation,,,E
Map Projection,Latitude/Longitude,PolyCal,Yes,AutoCalOnly,No,BSBUseWPX,No
Point01,xy, 344, 135,in, deg, 30, 0.0000,N, 15, 0.0000,W, grid, , , ,
Point02,xy, 562, 137,in, deg, 30, 0.0000,N, 12, 30.0000,W, grid, , , ,
Point03,xy, 780, 133,in, deg, 30, 0.0000,N, 10, 0.0000,W, grid, , , ,
Point04,xy, 333, 640,in, deg, 25, 0.0000,N, 15, 0.0000,W, grid, , , ,
Point05,xy, 564, 642,in, deg, 25, 0.0000,N, 12, 30.0000,W, grid, , , ,
Point06,xy, 795, 638,in, deg, 25, 0.0000,N, 10, 0.0000,W, grid, , , ,
Point07,xy, 323, 1155,in, deg, 20, 0.0000,N, 15, 0.0000,W, grid, , , ,
Point08,xy, 567, 1158,in, deg, 20, 0.0000,N, 12, 30.0000,W, grid, , , ,
Point09,xy, 811, 1153,in, deg, 20, 0.0000,N, 10, 0.0000,W, grid, , , ,
Point10,xy, , ,in, deg, , ,, , ,, grid, , , ,
Point11,xy, , ,in, deg, , ,, , ,, grid, , , ,
Point12,xy, , ,in, deg, , ,, , ,, grid, , , ,
Point13,xy, , ,in, deg, , ,, , ,, grid, , , ,
Point14,xy, , ,in, deg, , ,, , ,, grid, , , ,
Point15,xy, , ,in, deg, , ,, , ,, grid, , , ,
Point16,xy, , ,in, deg, , ,, , ,, grid, , , ,
Point17,xy, , ,in, deg, , ,, , ,, grid, , , ,
Point18,xy, , ,in, deg, , ,, , ,, grid, , , ,
Point19,xy, , ,in, deg, , ,, , ,, grid, , , ,
Point20,xy, , ,in, deg, , ,, , ,, grid, , , ,
Point21,xy, , ,in, deg, , ,, , ,, grid, , , ,
Point22,xy, , ,in, deg, , ,, , ,, grid, , , ,
Point23,xy, , ,in, deg, , ,, , ,, grid, , , ,
Point24,xy, , ,in, deg, , ,, , ,, grid, , , ,
Point25,xy, , ,in, deg, , ,, , ,, grid, , , ,
Point26,xy, , ,in, deg, , ,, , ,, grid, , , ,
Point27,xy, , ,in, deg, , ,, , ,, grid, , , ,
Point28,xy, , ,in, deg, , ,, , ,, grid, , , ,
Point29,xy, , ,in, deg, , ,, , ,, grid, , , ,
Point30,xy, , ,in, deg, , ,, , ,, grid, , , ,
Projection Setup,,,,,,,,,,
Map Feature = MF ; Map Comment = MC These follow if they exist
Track File = TF These follow if they exist
Moving Map Parameters = MM? These follow if they exist
MM0,Yes
MMPNUM,4
MMPXY,1,1,0
MMPXY,2,978,0
MMPXY,3,1042,1179
MMPXY,4,0,1173
MMPLL,1, -19.021982, 31.174662
MMPLL,2, -7.654043, 31.231290
MMPLL,3, -7.653255, 19.655300
MMPLL,4, -18.293573, 19.702293
MM1B,1106.667868
LL Grid Setup
LLGRID,No,No Grid,Yes,255,16711680,0,No Labels,0,16777215,7,1,Yes,x
Other Grid Setup
GRGRID,No,No Grid,Yes,255,16711680,No Labels,0,16777215,8,1,Yes,No,No,x
MOP,Map Open Position,0,0
IWH,Map Image Width/Height,2500,1250
