OziExplorer Map Data File Version 2.2
TUNISIA.PNG
F:\mapas\africa\Africa Este (rusos) 1-500.000\TUNISIA.PNG
1 ,Map Code,
WGS 84,, 0.0000, 0.0000,WGS 84
Reserved 1
Reserved 2
Magnetic Variation,,,E
Map Projection,Latitude/Longitude,PolyCal,Yes,AutoCalOnly,No,BSBUseWPX,No
Point01,xy, 307, 287,in, deg, 36, 0.0000,N, 8, 0.0000,E, grid, , , ,
Point02,xy, 547, 287,in, deg, 36, 0.0000,N, 10, 0.0000,E, grid, , , ,
Point03,xy, 787, 283,in, deg, 36, 0.0000,N, 12, 0.0000,E, grid, , , ,
Point04,xy, 305, 582,in, deg, 34, 0.0000,N, 8, 0.0000,E, grid, , , ,
Point05,xy, 549, 581,in, deg, 34, 0.0000,N, 10, 0.0000,E, grid, , , ,
Point06,xy, 792, 577,in, deg, 34, 0.0000,N, 12, 0.0000,E, grid, , , ,
Point07,xy, 304, 877,in, deg, 32, 0.0000,N, 8, 0.0000,E, grid, , , ,
Point08,xy, 551, 876,in, deg, 32, 0.0000,N, 10, 0.0000,E, grid, , , ,
Point09,xy, 797, 872,in, deg, 32, 0.0000,N, 12, 0.0000,E, grid, , , ,
Point10,xy, , ,in, deg, , ,, , ,, grid, , , ,
Point11,xy, , ,in, deg, , ,, , ,, grid, , , ,
Point12,xy, , ,in, deg, , ,, , ,, grid, , , ,
Point13,xy, , ,in, deg, , ,, , ,, grid, , , ,
Point14,xy, , ,in, deg, , ,, , ,, grid, , , ,
Point15,xy, , ,in, deg, , ,, , ,, grid, , , ,
Point16,xy, , ,in, deg, , ,, , ,, grid, , , ,
Point17,xy, , ,in, deg, , ,, , ,, grid, , , ,
Point18,xy, , ,in, deg, , ,, , ,, grid, , , ,
Point19,xy, , ,in, deg, , ,, , ,, grid, , , ,
Point20,xy, , ,in, deg, , ,, , ,, grid, , , ,
Point21,xy, , ,in, deg, , ,, , ,, grid, , , ,
Point22,xy, , ,in, deg, , ,, , ,, grid, , , ,
Point23,xy, , ,in, deg, , ,, , ,, grid, , , ,
Point24,xy, , ,in, deg, , ,, , ,, grid, , , ,
Point25,xy, , ,in, deg, , ,, , ,, grid, , , ,
Point26,xy, , ,in, deg, , ,, , ,, grid, , , ,
Point27,xy, , ,in, deg, , ,, , ,, grid, , , ,
Point28,xy, , ,in, deg, , ,, , ,, grid, , , ,
Point29,xy, , ,in, deg, , ,, , ,, grid, , , ,
Point30,xy, , ,in, deg, , ,, , ,, grid, , , ,
Projection Setup,,,,,,,,,,
Map Feature = MF ; Map Comment = MC These follow if they exist
Track File = TF These follow if they exist
Moving Map Parameters = MM? These follow if they exist
MM0,Yes
MMPNUM,4
MMPXY,1,0,6
MMPXY,2,975,2
MMPXY,3,1006,1169
MMPXY,4,0,1177
MMPLL,1, 5.408084, 37.881155
MMPLL,2, 13.629400, 37.879115
MMPLL,3, 13.631653, 29.946796
MMPLL,4, 5.585157, 29.952186
MM1B,737.655385
LL Grid Setup
LLGRID,No,No Grid,Yes,255,16711680,0,No Labels,0,16777215,7,1,Yes,x
Other Grid Setup
GRGRID,No,No Grid,Yes,255,16711680,No Labels,0,16777215,8,1,Yes,No,No,x
MOP,Map Open Position,0,0
IWH,Map Image Width/Height,2500,1250
