OziExplorer Map Data File Version 2.2
TOGO.PNG
F:\mapas\africa\Africa Este (rusos) 1-500.000\TOGO.PNG
1 ,Map Code,
WGS 84,, 0.0000, 0.0000,WGS 84
Reserved 1
Reserved 2
Magnetic Variation,,,E
Map Projection,Latitude/Longitude,PolyCal,Yes,AutoCalOnly,No,BSBUseWPX,No
Point01,xy, 277, 282,in, deg, 10, 0.0000,N, 0, 0.0000,E, grid, , , ,
Point02,xy, 485, 283,in, deg, 10, 0.0000,N, 1, 0.0000,E, grid, , , ,
Point03,xy, 692, 282,in, deg, 10, 0.0000,N, 2, 0.0000,E, grid, , , ,
Point04,xy, 275, 704,in, deg, 8, 0.0000,N, 0, 0.0000,E, grid, , , ,
Point05,xy, 484, 705,in, deg, 8, 0.0000,N, 1, 0.0000,E, grid, , , ,
Point06,xy, 693, 704,in, deg, 8, 0.0000,N, 2, 0.0000,E, grid, , , ,
Point07,xy, 272, 1129,in, deg, 6, 0.0000,N, 0, 0.0000,E, grid, , , ,
Point08,xy, 484, 1130,in, deg, 6, 0.0000,N, 1, 0.0000,E, grid, , , ,
Point09,xy, 695, 1130,in, deg, 6, 0.0000,N, 2, 0.0000,E, grid, , , ,
Point10,xy, , ,in, deg, , ,, , ,, grid, , , ,
Point11,xy, , ,in, deg, , ,, , ,, grid, , , ,
Point12,xy, , ,in, deg, , ,, , ,, grid, , , ,
Point13,xy, , ,in, deg, , ,, , ,, grid, , , ,
Point14,xy, , ,in, deg, , ,, , ,, grid, , , ,
Point15,xy, , ,in, deg, , ,, , ,, grid, , , ,
Point16,xy, , ,in, deg, , ,, , ,, grid, , , ,
Point17,xy, , ,in, deg, , ,, , ,, grid, , , ,
Point18,xy, , ,in, deg, , ,, , ,, grid, , , ,
Point19,xy, , ,in, deg, , ,, , ,, grid, , , ,
Point20,xy, , ,in, deg, , ,, , ,, grid, , , ,
Point21,xy, , ,in, deg, , ,, , ,, grid, , , ,
Point22,xy, , ,in, deg, , ,, , ,, grid, , , ,
Point23,xy, , ,in, deg, , ,, , ,, grid, , , ,
Point24,xy, , ,in, deg, , ,, , ,, grid, , , ,
Point25,xy, , ,in, deg, , ,, , ,, grid, , , ,
Point26,xy, , ,in, deg, , ,, , ,, grid, , , ,
Point27,xy, , ,in, deg, , ,, , ,, grid, , , ,
Point28,xy, , ,in, deg, , ,, , ,, grid, , , ,
Point29,xy, , ,in, deg, , ,, , ,, grid, , , ,
Point30,xy, , ,in, deg, , ,, , ,, grid, , , ,
Projection Setup,,,,,,,,,,
Map Feature = MF ; Map Comment = MC These follow if they exist
Track File = TF These follow if they exist
Moving Map Parameters = MM? These follow if they exist
MM0,Yes
MMPNUM,4
MMPXY,1,5,0
MMPXY,2,974,0
MMPXY,3,986,1198
MMPXY,4,0,1196
MMPLL,1, -1.323843, 11.330882
MMPLL,2, 3.380356, 11.324214
MMPLL,3, 3.381207, 5.665739
MMPLL,4, -1.277813, 5.666983
MM1B,525.830981
LL Grid Setup
LLGRID,No,No Grid,Yes,255,16711680,0,No Labels,0,16777215,7,1,Yes,x
Other Grid Setup
GRGRID,No,No Grid,Yes,255,16711680,No Labels,0,16777215,8,1,Yes,No,No,x
MOP,Map Open Position,0,0
IWH,Map Image Width/Height,2500,1250
