OziExplorer Map Data File Version 2.2
TANZANIA.PNG
F:\mapas\africa\Africa Este (rusos) 1-500.000\TANZANIA.PNG
1 ,Map Code,
WGS 84,, 0.0000, 0.0000,WGS 84
Reserved 1
Reserved 2
Magnetic Variation,,,E
Map Projection,Latitude/Longitude,PolyCal,Yes,AutoCalOnly,No,BSBUseWPX,No
Point01,xy, 85, 45,in, deg, 0, 0.0000,N, 30, 0.0000,E, grid, , , ,
Point02,xy, 500, 40,in, deg, 0, 0.0000,N, 35, 0.0000,E, grid, , , ,
Point03,xy, 917, 45,in, deg, 0, 0.0000,N, 40, 0.0000,E, grid, , , ,
Point04,xy, 95, 453,in, deg, 5, 0.0000,S, 30, 0.0000,E, grid, , , ,
Point05,xy, 499, 452,in, deg, 5, 0.0000,S, 35, 0.0000,E, grid, , , ,
Point06,xy, 905, 453,in, deg, 5, 0.0000,S, 40, 0.0000,E, grid, , , ,
Point07,xy, 106, 860,in, deg, 10, 0.0000,S, 30, 0.0000,E, grid, , , ,
Point08,xy, 499, 855,in, deg, 10, 0.0000,S, 35, 0.0000,E, grid, , , ,
Point09,xy, 892, 860,in, deg, 10, 0.0000,S, 40, 0.0000,E, grid, , , ,
Point10,xy, , ,in, deg, , ,, , ,, grid, , , ,
Point11,xy, , ,in, deg, , ,, , ,, grid, , , ,
Point12,xy, , ,in, deg, , ,, , ,, grid, , , ,
Point13,xy, , ,in, deg, , ,, , ,, grid, , , ,
Point14,xy, , ,in, deg, , ,, , ,, grid, , , ,
Point15,xy, , ,in, deg, , ,, , ,, grid, , , ,
Point16,xy, , ,in, deg, , ,, , ,, grid, , , ,
Point17,xy, , ,in, deg, , ,, , ,, grid, , , ,
Point18,xy, , ,in, deg, , ,, , ,, grid, , , ,
Point19,xy, , ,in, deg, , ,, , ,, grid, , , ,
Point20,xy, , ,in, deg, , ,, , ,, grid, , , ,
Point21,xy, , ,in, deg, , ,, , ,, grid, , , ,
Point22,xy, , ,in, deg, , ,, , ,, grid, , , ,
Point23,xy, , ,in, deg, , ,, , ,, grid, , , ,
Point24,xy, , ,in, deg, , ,, , ,, grid, , , ,
Point25,xy, , ,in, deg, , ,, , ,, grid, , , ,
Point26,xy, , ,in, deg, , ,, , ,, grid, , , ,
Point27,xy, , ,in, deg, , ,, , ,, grid, , , ,
Point28,xy, , ,in, deg, , ,, , ,, grid, , , ,
Point29,xy, , ,in, deg, , ,, , ,, grid, , , ,
Point30,xy, , ,in, deg, , ,, , ,, grid, , , ,
Projection Setup,,,,,,,,,,
Map Feature = MF ; Map Comment = MC These follow if they exist
Track File = TF These follow if they exist
Moving Map Parameters = MM? These follow if they exist
MM0,Yes
MMPNUM,4
MMPXY,1,0,0
MMPXY,2,1013,0
MMPXY,3,970,1161
MMPXY,4,1,1162
MMPLL,1, 28.995583, 0.561254
MMPLL,2, 41.128004, 0.563931
MMPLL,3, 41.119593, -13.722316
MMPLL,4, 28.520550, -13.726520
MM1B,1334.764295
LL Grid Setup
LLGRID,No,No Grid,Yes,255,16711680,0,No Labels,0,16777215,7,1,Yes,x
Other Grid Setup
GRGRID,No,No Grid,Yes,255,16711680,No Labels,0,16777215,8,1,Yes,No,No,x
MOP,Map Open Position,0,0
IWH,Map Image Width/Height,2500,1250
