OziExplorer Map Data File Version 2.2
SWAZILAND.PNG
F:\mapas\africa\Africa Este (rusos) 1-500.000\SWAZILAND.PNG
1 ,Map Code,
WGS 84,, 0.0000, 0.0000,WGS 84
Reserved 1
Reserved 2
Magnetic Variation,,,E
Map Projection,Latitude/Longitude,PolyCal,Yes,AutoCalOnly,No,BSBUseWPX,No
Point01,xy, 188, 353,in, deg, 26, 0.0000,S, 31, 0.0000,E, grid, , , ,
Point02,xy, 411, 355,in, deg, 26, 0.0000,S, 31, 30.0000,E, grid, , , ,
Point03,xy, 635, 356,in, deg, 26, 0.0000,S, 32, 0.0000,E, grid, , , ,
Point04,xy, 184, 601,in, deg, 26, 30.0000,S, 31, 0.0000,E, grid, , , ,
Point05,xy, 407, 603,in, deg, 26, 30.0000,S, 31, 30.0000,E, grid, , , ,
Point06,xy, 631, 604,in, deg, 26, 30.0000,S, 32, 0.0000,E, grid, , , ,
Point07,xy, 181, 849,in, deg, 27, 0.0000,S, 31, 0.0000,E, grid, , , ,
Point08,xy, 404, 850,in, deg, 27, 0.0000,S, 31, 30.0000,E, grid, , , ,
Point09,xy, 626, 852,in, deg, 27, 0.0000,S, 32, 0.0000,E, grid, , , ,
Point10,xy, , ,in, deg, , ,, , ,, grid, , , ,
Point11,xy, , ,in, deg, , ,, , ,, grid, , , ,
Point12,xy, , ,in, deg, , ,, , ,, grid, , , ,
Point13,xy, , ,in, deg, , ,, , ,, grid, , , ,
Point14,xy, , ,in, deg, , ,, , ,, grid, , , ,
Point15,xy, , ,in, deg, , ,, , ,, grid, , , ,
Point16,xy, , ,in, deg, , ,, , ,, grid, , , ,
Point17,xy, , ,in, deg, , ,, , ,, grid, , , ,
Point18,xy, , ,in, deg, , ,, , ,, grid, , , ,
Point19,xy, , ,in, deg, , ,, , ,, grid, , , ,
Point20,xy, , ,in, deg, , ,, , ,, grid, , , ,
Point21,xy, , ,in, deg, , ,, , ,, grid, , , ,
Point22,xy, , ,in, deg, , ,, , ,, grid, , , ,
Point23,xy, , ,in, deg, , ,, , ,, grid, , , ,
Point24,xy, , ,in, deg, , ,, , ,, grid, , , ,
Point25,xy, , ,in, deg, , ,, , ,, grid, , , ,
Point26,xy, , ,in, deg, , ,, , ,, grid, , , ,
Point27,xy, , ,in, deg, , ,, , ,, grid, , , ,
Point28,xy, , ,in, deg, , ,, , ,, grid, , , ,
Point29,xy, , ,in, deg, , ,, , ,, grid, , , ,
Point30,xy, , ,in, deg, , ,, , ,, grid, , , ,
Projection Setup,,,,,,,,,,
Map Feature = MF ; Map Comment = MC These follow if they exist
Track File = TF These follow if they exist
Moving Map Parameters = MM? These follow if they exist
MM0,Yes
MMPNUM,4
MMPXY,1,0,0
MMPXY,2,999,0
MMPXY,3,975,1178
MMPXY,4,0,1172
MMPLL,1, 30.568456, -25.292671
MMPLL,2, 32.793128, -25.280328
MMPLL,3, 32.794170, -27.656722
MMPLL,4, 30.599620, -27.656737
MM1B,224.609029
LL Grid Setup
LLGRID,No,No Grid,Yes,255,16711680,0,No Labels,0,16777215,7,1,Yes,x
Other Grid Setup
GRGRID,No,No Grid,Yes,255,16711680,No Labels,0,16777215,8,1,Yes,No,No,x
MOP,Map Open Position,0,0
IWH,Map Image Width/Height,2500,1250
