OziExplorer Map Data File Version 2.2
SOMALIA.PNG
F:\mapas\africa\Africa Este (rusos) 1-500.000\SOMALIA.PNG
1 ,Map Code,
WGS 84,, 0.0000, 0.0000,WGS 84
Reserved 1
Reserved 2
Magnetic Variation,,,E
Map Projection,Latitude/Longitude,PolyCal,Yes,AutoCalOnly,No,BSBUseWPX,No
Point01,xy, 107, 270,in, deg, 10, 0.0000,N, 40, 0.0000,E, grid, , , ,
Point02,xy, 452, 270,in, deg, 10, 0.0000,N, 45, 0.0000,E, grid, , , ,
Point03,xy, 797, 271,in, deg, 10, 0.0000,N, 50, 0.0000,E, grid, , , ,
Point04,xy, 107, 618,in, deg, 5, 0.0000,N, 40, 0.0000,E, grid, , , ,
Point05,xy, 451, 619,in, deg, 5, 0.0000,N, 45, 0.0000,E, grid, , , ,
Point06,xy, 796, 618,in, deg, 5, 0.0000,N, 50, 0.0000,E, grid, , , ,
Point07,xy, 107, 966,in, deg, 0, 0.0000,N, 40, 0.0000,E, grid, , , ,
Point08,xy, 451, 966,in, deg, 0, 0.0000,N, 45, 0.0000,E, grid, , , ,
Point09,xy, 795, 966,in, deg, 0, 0.0000,N, 50, 0.0000,E, grid, , , ,
Point10,xy, , ,in, deg, , ,, , ,, grid, , , ,
Point11,xy, , ,in, deg, , ,, , ,, grid, , , ,
Point12,xy, , ,in, deg, , ,, , ,, grid, , , ,
Point13,xy, , ,in, deg, , ,, , ,, grid, , , ,
Point14,xy, , ,in, deg, , ,, , ,, grid, , , ,
Point15,xy, , ,in, deg, , ,, , ,, grid, , , ,
Point16,xy, , ,in, deg, , ,, , ,, grid, , , ,
Point17,xy, , ,in, deg, , ,, , ,, grid, , , ,
Point18,xy, , ,in, deg, , ,, , ,, grid, , , ,
Point19,xy, , ,in, deg, , ,, , ,, grid, , , ,
Point20,xy, , ,in, deg, , ,, , ,, grid, , , ,
Point21,xy, , ,in, deg, , ,, , ,, grid, , , ,
Point22,xy, , ,in, deg, , ,, , ,, grid, , , ,
Point23,xy, , ,in, deg, , ,, , ,, grid, , , ,
Point24,xy, , ,in, deg, , ,, , ,, grid, , , ,
Point25,xy, , ,in, deg, , ,, , ,, grid, , , ,
Point26,xy, , ,in, deg, , ,, , ,, grid, , , ,
Point27,xy, , ,in, deg, , ,, , ,, grid, , , ,
Point28,xy, , ,in, deg, , ,, , ,, grid, , , ,
Point29,xy, , ,in, deg, , ,, , ,, grid, , , ,
Point30,xy, , ,in, deg, , ,, , ,, grid, , , ,
Projection Setup,,,,,,,,,,
Map Feature = MF ; Map Comment = MC These follow if they exist
Track File = TF These follow if they exist
Moving Map Parameters = MM? These follow if they exist
MM0,Yes
MMPNUM,4
MMPXY,1,0,0
MMPXY,2,975,0
MMPXY,3,970,1165
MMPXY,4,0,1166
MMPLL,1, 38.443296, 13.866801
MMPLL,2, 52.556424, 13.890185
MMPLL,3, 52.546596, -2.872895
MMPLL,4, 38.437313, -2.876734
MM1B,1563.851096
LL Grid Setup
LLGRID,No,No Grid,Yes,255,16711680,0,No Labels,0,16777215,7,1,Yes,x
Other Grid Setup
GRGRID,No,No Grid,Yes,255,16711680,No Labels,0,16777215,8,1,Yes,No,No,x
MOP,Map Open Position,0,0
IWH,Map Image Width/Height,2500,1250
