OziExplorer Map Data File Version 2.2
SIERRA_LEONE.PNG
F:\mapas\africa\Africa Este (rusos) 1-500.000\SIERRA_LEONE.PNG
1 ,Map Code,
WGS 84,, 0.0000, 0.0000,WGS 84
Reserved 1
Reserved 2
Magnetic Variation,,,E
Map Projection,Latitude/Longitude,PolyCal,Yes,AutoCalOnly,No,BSBUseWPX,No
Point01,xy, 140, 154,in, deg, 10, 0.0000,N, 13, 0.0000,W, grid, , , ,
Point02,xy, 420, 156,in, deg, 10, 0.0000,N, 12, 0.0000,W, grid, , , ,
Point03,xy, 700, 158,in, deg, 10, 0.0000,N, 11, 0.0000,W, grid, , , ,
Point04,xy, 135, 582,in, deg, 8, 30.0000,N, 13, 0.0000,W, grid, , , ,
Point05,xy, 417, 584,in, deg, 8, 30.0000,N, 12, 0.0000,W, grid, , , ,
Point06,xy, 699, 586,in, deg, 8, 30.0000,N, 11, 0.0000,W, grid, , , ,
Point07,xy, 131, 1011,in, deg, 7, 0.0000,N, 13, 0.0000,W, grid, , , ,
Point08,xy, 415, 1012,in, deg, 7, 0.0000,N, 12, 0.0000,W, grid, , , ,
Point09,xy, 698, 1014,in, deg, 7, 0.0000,N, 11, 0.0000,W, grid, , , ,
Point10,xy, , ,in, deg, , ,, , ,, grid, , , ,
Point11,xy, , ,in, deg, , ,, , ,, grid, , , ,
Point12,xy, , ,in, deg, , ,, , ,, grid, , , ,
Point13,xy, , ,in, deg, , ,, , ,, grid, , , ,
Point14,xy, , ,in, deg, , ,, , ,, grid, , , ,
Point15,xy, , ,in, deg, , ,, , ,, grid, , , ,
Point16,xy, , ,in, deg, , ,, , ,, grid, , , ,
Point17,xy, , ,in, deg, , ,, , ,, grid, , , ,
Point18,xy, , ,in, deg, , ,, , ,, grid, , , ,
Point19,xy, , ,in, deg, , ,, , ,, grid, , , ,
Point20,xy, , ,in, deg, , ,, , ,, grid, , , ,
Point21,xy, , ,in, deg, , ,, , ,, grid, , , ,
Point22,xy, , ,in, deg, , ,, , ,, grid, , , ,
Point23,xy, , ,in, deg, , ,, , ,, grid, , , ,
Point24,xy, , ,in, deg, , ,, , ,, grid, , , ,
Point25,xy, , ,in, deg, , ,, , ,, grid, , , ,
Point26,xy, , ,in, deg, , ,, , ,, grid, , , ,
Point27,xy, , ,in, deg, , ,, , ,, grid, , , ,
Point28,xy, , ,in, deg, , ,, , ,, grid, , , ,
Point29,xy, , ,in, deg, , ,, , ,, grid, , , ,
Point30,xy, , ,in, deg, , ,, , ,, grid, , , ,
Projection Setup,,,,,,,,,,
Map Feature = MF ; Map Comment = MC These follow if they exist
Track File = TF These follow if they exist
Moving Map Parameters = MM? These follow if they exist
MM0,Yes
MMPNUM,4
MMPXY,1,0,0
MMPXY,2,969,1
MMPXY,3,971,1215
MMPXY,4,0,1210
MMPLL,1, -13.506375, 10.536478
MMPLL,2, -10.038008, 10.560351
MMPLL,3, -10.038935, 6.302601
MMPLL,4, -13.454181, 6.301555
MM1B,390.451194
LL Grid Setup
LLGRID,No,No Grid,Yes,255,16711680,0,No Labels,0,16777215,7,1,Yes,x
Other Grid Setup
GRGRID,No,No Grid,Yes,255,16711680,No Labels,0,16777215,8,1,Yes,No,No,x
MOP,Map Open Position,0,0
IWH,Map Image Width/Height,2500,1250
