OziExplorer Map Data File Version 2.2
r
F:\mapas\africa\Africa Este (rusos) 1-500.000\SENEGAL.PNG
1 ,Map Code,
WGS 84,, 0.0000, 0.0000,WGS 84
Reserved 1
Reserved 2
Magnetic Variation,,,E
Map Projection,Latitude/Longitude,PolyCal,Yes,AutoCalOnly,No,BSBUseWPX,No
Point01,xy, 257, 366,in, deg, 16, 0.0000,N, 16, 0.0000,W, grid, , , ,
Point02,xy, 548, 365,in, deg, 16, 0.0000,N, 14, 0.0000,W, grid, , , ,
Point03,xy, 839, 360,in, deg, 16, 0.0000,N, 12, 0.0000,W, grid, , , ,
Point04,xy, 258, 670,in, deg, 14, 0.0000,N, 16, 0.0000,W, grid, , , ,
Point05,xy, 552, 668,in, deg, 14, 0.0000,N, 14, 0.0000,W, grid, , , ,
Point06,xy, 846, 662,in, deg, 14, 0.0000,N, 12, 0.0000,W, grid, , , ,
Point07,xy, 258, 974,in, deg, 12, 0.0000,N, 16, 0.0000,W, grid, , , ,
Point08,xy, 555, 973,in, deg, 12, 0.0000,N, 14, 0.0000,W, grid, , , ,
Point09,xy, 853, 968,in, deg, 12, 0.0000,N, 12, 0.0000,W, grid, , , ,
Point10,xy, , ,in, deg, , ,, , ,, grid, , , ,
Point11,xy, , ,in, deg, , ,, , ,, grid, , , ,
Point12,xy, , ,in, deg, , ,, , ,, grid, , , ,
Point13,xy, , ,in, deg, , ,, , ,, grid, , , ,
Point14,xy, , ,in, deg, , ,, , ,, grid, , , ,
Point15,xy, , ,in, deg, , ,, , ,, grid, , , ,
Point16,xy, , ,in, deg, , ,, , ,, grid, , , ,
Point17,xy, , ,in, deg, , ,, , ,, grid, , , ,
Point18,xy, , ,in, deg, , ,, , ,, grid, , , ,
Point19,xy, , ,in, deg, , ,, , ,, grid, , , ,
Point20,xy, , ,in, deg, , ,, , ,, grid, , , ,
Point21,xy, , ,in, deg, , ,, , ,, grid, , , ,
Point22,xy, , ,in, deg, , ,, , ,, grid, , , ,
Point23,xy, , ,in, deg, , ,, , ,, grid, , , ,
Point24,xy, , ,in, deg, , ,, , ,, grid, , , ,
Point25,xy, , ,in, deg, , ,, , ,, grid, , , ,
Point26,xy, , ,in, deg, , ,, , ,, grid, , , ,
Point27,xy, , ,in, deg, , ,, , ,, grid, , , ,
Point28,xy, , ,in, deg, , ,, , ,, grid, , , ,
Point29,xy, , ,in, deg, , ,, , ,, grid, , , ,
Point30,xy, , ,in, deg, , ,, , ,, grid, , , ,
Projection Setup,,,,,,,,,,
Map Feature = MF ; Map Comment = MC These follow if they exist
Track File = TF These follow if they exist
Moving Map Parameters = MM? These follow if they exist
MM0,Yes
MMPNUM,4
MMPXY,1,0,10
MMPXY,2,985,1
MMPXY,3,1019,1172
MMPXY,4,0,1181
MMPLL,1, -17.782235, 18.354556
MMPLL,2, -10.918893, 18.354334
MMPLL,3, -10.919577, 10.637811
MMPLL,4, -17.722526, 10.638816
MM1B,736.571633
LL Grid Setup
LLGRID,No,No Grid,Yes,255,16711680,0,No Labels,0,16777215,7,1,Yes,x
Other Grid Setup
GRGRID,No,No Grid,Yes,255,16711680,No Labels,0,16777215,8,1,Yes,No,No,x
MOP,Map Open Position,0,0
IWH,Map Image Width/Height,2500,1250
