OziExplorer Map Data File Version 2.2
RWANDA_AND_BURUNDI.PNG
F:\mapas\africa\Africa Este (rusos) 1-500.000\RWANDA_AND_BURUNDI.PNG
1 ,Map Code,
WGS 84,, 0.0000, 0.0000,WGS 84
Reserved 1
Reserved 2
Magnetic Variation,,,E
Map Projection,Latitude/Longitude,PolyCal,Yes,AutoCalOnly,No,BSBUseWPX,No
Point01,xy, 109, 409,in, deg, 2, 0.0000,S, 29, 0.0000,E, grid, , , ,
Point02,xy, 510, 405,in, deg, 2, 0.0000,S, 30, 0.0000,E, grid, , , ,
Point03,xy, 912, 403,in, deg, 2, 0.0000,S, 31, 0.0000,E, grid, , , ,
Point04,xy, 111, 806,in, deg, 3, 0.0000,S, 29, 0.0000,E, grid, , , ,
Point05,xy, 510, 804,in, deg, 3, 0.0000,S, 30, 0.0000,E, grid, , , ,
Point06,xy, 911, 803,in, deg, 3, 0.0000,S, 31, 0.0000,E, grid, , , ,
Point07,xy, 112, 1204,in, deg, 4, 0.0000,S, 29, 0.0000,E, grid, , , ,
Point08,xy, 509, 1203,in, deg, 4, 0.0000,S, 30, 0.0000,E, grid, , , ,
Point09,xy, 908, 1203,in, deg, 4, 0.0000,S, 31, 0.0000,E, grid, , , ,
Point10,xy, , ,in, deg, , ,, , ,, grid, , , ,
Point11,xy, , ,in, deg, , ,, , ,, grid, , , ,
Point12,xy, , ,in, deg, , ,, , ,, grid, , , ,
Point13,xy, , ,in, deg, , ,, , ,, grid, , , ,
Point14,xy, , ,in, deg, , ,, , ,, grid, , , ,
Point15,xy, , ,in, deg, , ,, , ,, grid, , , ,
Point16,xy, , ,in, deg, , ,, , ,, grid, , , ,
Point17,xy, , ,in, deg, , ,, , ,, grid, , , ,
Point18,xy, , ,in, deg, , ,, , ,, grid, , , ,
Point19,xy, , ,in, deg, , ,, , ,, grid, , , ,
Point20,xy, , ,in, deg, , ,, , ,, grid, , , ,
Point21,xy, , ,in, deg, , ,, , ,, grid, , , ,
Point22,xy, , ,in, deg, , ,, , ,, grid, , , ,
Point23,xy, , ,in, deg, , ,, , ,, grid, , , ,
Point24,xy, , ,in, deg, , ,, , ,, grid, , , ,
Point25,xy, , ,in, deg, , ,, , ,, grid, , , ,
Point26,xy, , ,in, deg, , ,, , ,, grid, , , ,
Point27,xy, , ,in, deg, , ,, , ,, grid, , , ,
Point28,xy, , ,in, deg, , ,, , ,, grid, , , ,
Point29,xy, , ,in, deg, , ,, , ,, grid, , , ,
Point30,xy, , ,in, deg, , ,, , ,, grid, , , ,
Projection Setup,,,,,,,,,,
Map Feature = MF ; Map Comment = MC These follow if they exist
Track File = TF These follow if they exist
Moving Map Parameters = MM? These follow if they exist
MM0,Yes
MMPNUM,4
MMPXY,1,0,0
MMPXY,2,987,0
MMPXY,3,980,1408
MMPXY,4,0,1408
MMPLL,1, 28.737303, -0.966683
MMPLL,2, 31.184434, -0.992771
MMPLL,3, 31.185186, -4.510735
MMPLL,4, 28.717346, -4.511708
MM1B,276.574798
LL Grid Setup
LLGRID,No,No Grid,Yes,255,16711680,0,No Labels,0,16777215,7,1,Yes,x
Other Grid Setup
GRGRID,No,No Grid,Yes,255,16711680,No Labels,0,16777215,8,1,Yes,No,No,x
MOP,Map Open Position,0,0
IWH,Map Image Width/Height,2500,1250
