OziExplorer Map Data File Version 2.2
NAMIBIA.PNG
F:\mapas\africa\Africa Este (rusos) 1-500.000\NAMIBIA.PNG
1 ,Map Code,
WGS 84,, 0.0000, 0.0000,WGS 84
Reserved 1
Reserved 2
Magnetic Variation,,,E
Map Projection,Latitude/Longitude,PolyCal,Yes,AutoCalOnly,No,BSBUseWPX,No
Point01,xy, 63, 201,in, deg, 18, 0.0000,S, 12, 0.0000,E, grid, , , ,
Point02,xy, 455, 193,in, deg, 18, 0.0000,S, 18, 0.0000,E, grid, , , ,
Point03,xy, 848, 198,in, deg, 18, 0.0000,S, 24, 0.0000,E, grid, , , ,
Point04,xy, 79, 615,in, deg, 24, 0.0000,S, 12, 0.0000,E, grid, , , ,
Point05,xy, 456, 608,in, deg, 24, 0.0000,S, 18, 0.0000,E, grid, , , ,
Point06,xy, 836, 612,in, deg, 24, 0.0000,S, 24, 0.0000,E, grid, , , ,
Point07,xy, 94, 1036,in, deg, 30, 0.0000,S, 12, 0.0000,E, grid, , , ,
Point08,xy, 459, 1027,in, deg, 30, 0.0000,S, 18, 0.0000,E, grid, , , ,
Point09,xy, 825, 1031,in, deg, 30, 0.0000,S, 24, 0.0000,E, grid, , , ,
Point10,xy, , ,in, deg, , ,, , ,, grid, , , ,
Point11,xy, , ,in, deg, , ,, , ,, grid, , , ,
Point12,xy, , ,in, deg, , ,, , ,, grid, , , ,
Point13,xy, , ,in, deg, , ,, , ,, grid, , , ,
Point14,xy, , ,in, deg, , ,, , ,, grid, , , ,
Point15,xy, , ,in, deg, , ,, , ,, grid, , , ,
Point16,xy, , ,in, deg, , ,, , ,, grid, , , ,
Point17,xy, , ,in, deg, , ,, , ,, grid, , , ,
Point18,xy, , ,in, deg, , ,, , ,, grid, , , ,
Point19,xy, , ,in, deg, , ,, , ,, grid, , , ,
Point20,xy, , ,in, deg, , ,, , ,, grid, , , ,
Point21,xy, , ,in, deg, , ,, , ,, grid, , , ,
Point22,xy, , ,in, deg, , ,, , ,, grid, , , ,
Point23,xy, , ,in, deg, , ,, , ,, grid, , , ,
Point24,xy, , ,in, deg, , ,, , ,, grid, , , ,
Point25,xy, , ,in, deg, , ,, , ,, grid, , , ,
Point26,xy, , ,in, deg, , ,, , ,, grid, , , ,
Point27,xy, , ,in, deg, , ,, , ,, grid, , , ,
Point28,xy, , ,in, deg, , ,, , ,, grid, , , ,
Point29,xy, , ,in, deg, , ,, , ,, grid, , , ,
Point30,xy, , ,in, deg, , ,, , ,, grid, , , ,
Projection Setup,,,,,,,,,,
Map Feature = MF ; Map Comment = MC These follow if they exist
Track File = TF These follow if they exist
Moving Map Parameters = MM? These follow if they exist
MM0,Yes
MMPNUM,4
MMPXY,1,0,1
MMPXY,2,1028,0
MMPXY,3,977,1213
MMPXY,4,2,1217
MMPLL,1, 11.152871, -15.053818
MMPLL,2, 26.601770, -15.012038
MMPLL,3, 26.596307, -32.504643
MMPLL,4, 10.338609, -32.500665
MM1B,1619.787752
LL Grid Setup
LLGRID,No,No Grid,Yes,255,16711680,0,No Labels,0,16777215,7,1,Yes,x
Other Grid Setup
GRGRID,No,No Grid,Yes,255,16711680,No Labels,0,16777215,8,1,Yes,No,No,x
MOP,Map Open Position,0,0
IWH,Map Image Width/Height,2500,1250
