OziExplorer Map Data File Version 2.2
MOROCCO.PNG
F:\mapas\africa\Africa Este (rusos) 1-500.000\MOROCCO.PNG
1 ,Map Code,
WGS 84,, 0.0000, 0.0000,WGS 84
Reserved 1
Reserved 2
Magnetic Variation,,,E
Map Projection,Latitude/Longitude,PolyCal,Yes,AutoCalOnly,No,BSBUseWPX,No
Point01,xy, 301, 104,in, deg, 36, 0.0000,N, 10, 0.0000,W, grid, , , ,
Point02,xy, 599, 111,in, deg, 36, 0.0000,N, 6, 0.0000,W, grid, , , ,
Point03,xy, 898, 106,in, deg, 36, 0.0000,N, 2, 0.0000,W, grid, , , ,
Point04,xy, 289, 470,in, deg, 32, 0.0000,N, 10, 0.0000,W, grid, , , ,
Point05,xy, 599, 477,in, deg, 32, 0.0000,N, 6, 0.0000,W, grid, , , ,
Point06,xy, 912, 470,in, deg, 32, 0.0000,N, 2, 0.0000,W, grid, , , ,
Point07,xy, 277, 837,in, deg, 28, 0.0000,N, 10, 0.0000,W, grid, , , ,
Point08,xy, 600, 843,in, deg, 28, 0.0000,N, 6, 0.0000,W, grid, , , ,
Point09,xy, 926, 834,in, deg, 28, 0.0000,N, 2, 0.0000,W, grid, , , ,
Point10,xy, , ,in, deg, , ,, , ,, grid, , , ,
Point11,xy, , ,in, deg, , ,, , ,, grid, , , ,
Point12,xy, , ,in, deg, , ,, , ,, grid, , , ,
Point13,xy, , ,in, deg, , ,, , ,, grid, , , ,
Point14,xy, , ,in, deg, , ,, , ,, grid, , , ,
Point15,xy, , ,in, deg, , ,, , ,, grid, , , ,
Point16,xy, , ,in, deg, , ,, , ,, grid, , , ,
Point17,xy, , ,in, deg, , ,, , ,, grid, , , ,
Point18,xy, , ,in, deg, , ,, , ,, grid, , , ,
Point19,xy, , ,in, deg, , ,, , ,, grid, , , ,
Point20,xy, , ,in, deg, , ,, , ,, grid, , , ,
Point21,xy, , ,in, deg, , ,, , ,, grid, , , ,
Point22,xy, , ,in, deg, , ,, , ,, grid, , , ,
Point23,xy, , ,in, deg, , ,, , ,, grid, , , ,
Point24,xy, , ,in, deg, , ,, , ,, grid, , , ,
Point25,xy, , ,in, deg, , ,, , ,, grid, , , ,
Point26,xy, , ,in, deg, , ,, , ,, grid, , , ,
Point27,xy, , ,in, deg, , ,, , ,, grid, , , ,
Point28,xy, , ,in, deg, , ,, , ,, grid, , , ,
Point29,xy, , ,in, deg, , ,, , ,, grid, , , ,
Point30,xy, , ,in, deg, , ,, , ,, grid, , , ,
Projection Setup,,,,,,,,,,
Map Feature = MF ; Map Comment = MC These follow if they exist
Track File = TF These follow if they exist
Moving Map Parameters = MM? These follow if they exist
MM0,Yes
MMPNUM,4
MMPXY,1,4,0
MMPXY,2,1010,0
MMPXY,3,1061,972
MMPXY,4,0,964
MMPLL,1, -14.108753, 36.883941
MMPLL,2, -0.448362, 37.099635
MMPLL,3, -0.442163, 26.411572
MMPLL,4, -13.340016, 26.459119
MM1B,1220.029775
LL Grid Setup
LLGRID,No,No Grid,Yes,255,16711680,0,No Labels,0,16777215,7,1,Yes,x
Other Grid Setup
GRGRID,No,No Grid,Yes,255,16711680,No Labels,0,16777215,8,1,Yes,No,No,x
MOP,Map Open Position,0,0
IWH,Map Image Width/Height,2500,1250
