OziExplorer Map Data File Version 2.2
MALAWI.PNG
F:\mapas\africa\Africa Este (rusos) 1-500.000\MALAWI.PNG
1 ,Map Code,
WGS 84,, 0.0000, 0.0000,WGS 84
Reserved 1
Reserved 2
Magnetic Variation,,,E
Map Projection,Latitude/Longitude,PolyCal,Yes,AutoCalOnly,No,BSBUseWPX,No
Point01,xy, 250, 437,in, deg, 12, 0.0000,S, 32, 0.0000,E, grid, , , ,
Point02,xy, 487, 435,in, deg, 12, 0.0000,S, 34, 0.0000,E, grid, , , ,
Point03,xy, 723, 437,in, deg, 12, 0.0000,S, 36, 0.0000,E, grid, , , ,
Point04,xy, 253, 678,in, deg, 14, 0.0000,S, 32, 0.0000,E, grid, , , ,
Point05,xy, 487, 677,in, deg, 14, 0.0000,S, 34, 0.0000,E, grid, , , ,
Point06,xy, 720, 678,in, deg, 14, 0.0000,S, 36, 0.0000,E, grid, , , ,
Point07,xy, 256, 919,in, deg, 16, 0.0000,S, 32, 0.0000,E, grid, , , ,
Point08,xy, 487, 917,in, deg, 16, 0.0000,S, 34, 0.0000,E, grid, , , ,
Point09,xy, 717, 919,in, deg, 16, 0.0000,S, 36, 0.0000,E, grid, , , ,
Point10,xy, , ,in, deg, , ,, , ,, grid, , , ,
Point11,xy, , ,in, deg, , ,, , ,, grid, , , ,
Point12,xy, , ,in, deg, , ,, , ,, grid, , , ,
Point13,xy, , ,in, deg, , ,, , ,, grid, , , ,
Point14,xy, , ,in, deg, , ,, , ,, grid, , , ,
Point15,xy, , ,in, deg, , ,, , ,, grid, , , ,
Point16,xy, , ,in, deg, , ,, , ,, grid, , , ,
Point17,xy, , ,in, deg, , ,, , ,, grid, , , ,
Point18,xy, , ,in, deg, , ,, , ,, grid, , , ,
Point19,xy, , ,in, deg, , ,, , ,, grid, , , ,
Point20,xy, , ,in, deg, , ,, , ,, grid, , , ,
Point21,xy, , ,in, deg, , ,, , ,, grid, , , ,
Point22,xy, , ,in, deg, , ,, , ,, grid, , , ,
Point23,xy, , ,in, deg, , ,, , ,, grid, , , ,
Point24,xy, , ,in, deg, , ,, , ,, grid, , , ,
Point25,xy, , ,in, deg, , ,, , ,, grid, , , ,
Point26,xy, , ,in, deg, , ,, , ,, grid, , , ,
Point27,xy, , ,in, deg, , ,, , ,, grid, , , ,
Point28,xy, , ,in, deg, , ,, , ,, grid, , , ,
Point29,xy, , ,in, deg, , ,, , ,, grid, , , ,
Point30,xy, , ,in, deg, , ,, , ,, grid, , , ,
Projection Setup,,,,,,,,,,
Map Feature = MF ; Map Comment = MC These follow if they exist
Track File = TF These follow if they exist
Moving Map Parameters = MM? These follow if they exist
MM0,Yes
MMPNUM,4
MMPXY,1,0,0
MMPXY,2,1002,0
MMPXY,3,970,1158
MMPXY,4,0,1158
MMPLL,1, 29.991342, -8.351902
MMPLL,2, 38.275391, -8.344342
MMPLL,3, 38.264554, -17.943264
MMPLL,4, 29.740205, -17.943396
MM1B,902.787776
LL Grid Setup
LLGRID,No,No Grid,Yes,255,16711680,0,No Labels,0,16777215,7,1,Yes,x
Other Grid Setup
GRGRID,No,No Grid,Yes,255,16711680,No Labels,0,16777215,8,1,Yes,No,No,x
MOP,Map Open Position,0,0
IWH,Map Image Width/Height,2500,1250
