OziExplorer Map Data File Version 2.2
MADAGASCAR.PNG
F:\mapas\africa\Africa Este (rusos) 1-500.000\MADAGASCAR.PNG
1 ,Map Code,
WGS 84,, 0.0000, 0.0000,WGS 84
Reserved 1
Reserved 2
Magnetic Variation,,,E
Map Projection,Latitude/Longitude,PolyCal,Yes,AutoCalOnly,No,BSBUseWPX,No
Point01,xy, 4, 329,in, deg, 15, 0.0000,S, 40, 0.0000,E, grid, , , ,
Point02,xy, 347, 322,in, deg, 15, 0.0000,S, 45, 0.0000,E, grid, , , ,
Point03,xy, 699, 319,in, deg, 15, 0.0000,S, 50, 0.0000,E, grid, , , ,
Point04,xy, 13, 695,in, deg, 20, 0.0000,S, 40, 0.0000,E, grid, , , ,
Point05,xy, 353, 687,in, deg, 20, 0.0000,S, 45, 0.0000,E, grid, , , ,
Point06,xy, 697, 686,in, deg, 20, 0.0000,S, 50, 0.0000,E, grid, , , ,
Point07,xy, 21, 1065,in, deg, 25, 0.0000,S, 40, 0.0000,E, grid, , , ,
Point08,xy, 357, 1057,in, deg, 25, 0.0000,S, 45, 0.0000,E, grid, , , ,
Point09,xy, 695, 1055,in, deg, 25, 0.0000,S, 50, 0.0000,E, grid, , , ,
Point10,xy, , ,in, deg, , ,, , ,, grid, , , ,
Point11,xy, , ,in, deg, , ,, , ,, grid, , , ,
Point12,xy, , ,in, deg, , ,, , ,, grid, , , ,
Point13,xy, , ,in, deg, , ,, , ,, grid, , , ,
Point14,xy, , ,in, deg, , ,, , ,, grid, , , ,
Point15,xy, , ,in, deg, , ,, , ,, grid, , , ,
Point16,xy, , ,in, deg, , ,, , ,, grid, , , ,
Point17,xy, , ,in, deg, , ,, , ,, grid, , , ,
Point18,xy, , ,in, deg, , ,, , ,, grid, , , ,
Point19,xy, , ,in, deg, , ,, , ,, grid, , , ,
Point20,xy, , ,in, deg, , ,, , ,, grid, , , ,
Point21,xy, , ,in, deg, , ,, , ,, grid, , , ,
Point22,xy, , ,in, deg, , ,, , ,, grid, , , ,
Point23,xy, , ,in, deg, , ,, , ,, grid, , , ,
Point24,xy, , ,in, deg, , ,, , ,, grid, , , ,
Point25,xy, , ,in, deg, , ,, , ,, grid, , , ,
Point26,xy, , ,in, deg, , ,, , ,, grid, , , ,
Point27,xy, , ,in, deg, , ,, , ,, grid, , , ,
Point28,xy, , ,in, deg, , ,, , ,, grid, , , ,
Point29,xy, , ,in, deg, , ,, , ,, grid, , , ,
Point30,xy, , ,in, deg, , ,, , ,, grid, , , ,
Projection Setup,,,,,,,,,,
Map Feature = MF ; Map Comment = MC These follow if they exist
Track File = TF These follow if they exist
Moving Map Parameters = MM? These follow if they exist
MM0,Yes
MMPNUM,4
MMPXY,1,0,2
MMPXY,2,1007,0
MMPXY,3,988,1225
MMPXY,4,0,1233
MMPLL,1, 40.087605, -10.490812
MMPLL,2, 54.297647, -10.555523
MMPLL,3, 54.298489, -27.243731
MMPLL,4, 39.618717, -27.248113
MM1B,1566.623339
LL Grid Setup
LLGRID,No,No Grid,Yes,255,16711680,0,No Labels,0,16777215,7,1,Yes,x
Other Grid Setup
GRGRID,No,No Grid,Yes,255,16711680,No Labels,0,16777215,8,1,Yes,No,No,x
MOP,Map Open Position,0,0
IWH,Map Image Width/Height,2500,1250
