OziExplorer Map Data File Version 2.2
LESOTHO.PNG
F:\mapas\africa\Africa Este (rusos) 1-500.000\LESOTHO.PNG
1 ,Map Code,
WGS 84,, 0.0000, 0.0000,WGS 84
Reserved 1
Reserved 2
Magnetic Variation,,,E
Map Projection,Latitude/Longitude,PolyCal,Yes,AutoCalOnly,No,BSBUseWPX,No
Point01,xy, 69, 331,in, deg, 29, 0.0000,S, 27, 0.0000,E, grid, , , ,
Point02,xy, 404, 328,in, deg, 29, 0.0000,S, 28, 0.0000,E, grid, , , ,
Point03,xy, 741, 327,in, deg, 29, 0.0000,S, 29, 0.0000,E, grid, , , ,
Point04,xy, 73, 717,in, deg, 30, 0.0000,S, 27, 0.0000,E, grid, , , ,
Point05,xy, 406, 714,in, deg, 30, 0.0000,S, 28, 0.0000,E, grid, , , ,
Point06,xy, 740, 713,in, deg, 30, 0.0000,S, 29, 0.0000,E, grid, , , ,
Point07,xy, 77, 1104,in, deg, 31, 0.0000,S, 27, 0.0000,E, grid, , , ,
Point08,xy, 407, 1101,in, deg, 31, 0.0000,S, 28, 0.0000,E, grid, , , ,
Point09,xy, 740, 1100,in, deg, 31, 0.0000,S, 29, 0.0000,E, grid, , , ,
Point10,xy, , ,in, deg, , ,, , ,, grid, , , ,
Point11,xy, , ,in, deg, , ,, , ,, grid, , , ,
Point12,xy, , ,in, deg, , ,, , ,, grid, , , ,
Point13,xy, , ,in, deg, , ,, , ,, grid, , , ,
Point14,xy, , ,in, deg, , ,, , ,, grid, , , ,
Point15,xy, , ,in, deg, , ,, , ,, grid, , , ,
Point16,xy, , ,in, deg, , ,, , ,, grid, , , ,
Point17,xy, , ,in, deg, , ,, , ,, grid, , , ,
Point18,xy, , ,in, deg, , ,, , ,, grid, , , ,
Point19,xy, , ,in, deg, , ,, , ,, grid, , , ,
Point20,xy, , ,in, deg, , ,, , ,, grid, , , ,
Point21,xy, , ,in, deg, , ,, , ,, grid, , , ,
Point22,xy, , ,in, deg, , ,, , ,, grid, , , ,
Point23,xy, , ,in, deg, , ,, , ,, grid, , , ,
Point24,xy, , ,in, deg, , ,, , ,, grid, , , ,
Point25,xy, , ,in, deg, , ,, , ,, grid, , , ,
Point26,xy, , ,in, deg, , ,, , ,, grid, , , ,
Point27,xy, , ,in, deg, , ,, , ,, grid, , , ,
Point28,xy, , ,in, deg, , ,, , ,, grid, , , ,
Point29,xy, , ,in, deg, , ,, , ,, grid, , , ,
Point30,xy, , ,in, deg, , ,, , ,, grid, , , ,
Projection Setup,,,,,,,,,,
Map Feature = MF ; Map Comment = MC These follow if they exist
Track File = TF These follow if they exist
Moving Map Parameters = MM? These follow if they exist
MM0,Yes
MMPNUM,4
MMPXY,1,0,0
MMPXY,2,983,0
MMPXY,3,976,1169
MMPXY,4,0,1173
MMPLL,1, 26.804241, -28.138281
MMPLL,2, 29.709424, -28.149507
MMPLL,3, 29.708222, -31.176730
MMPLL,4, 26.763969, -31.175445
MM1B,291.994182
LL Grid Setup
LLGRID,No,No Grid,Yes,255,16711680,0,No Labels,0,16777215,7,1,Yes,x
Other Grid Setup
GRGRID,No,No Grid,Yes,255,16711680,No Labels,0,16777215,8,1,Yes,No,No,x
MOP,Map Open Position,0,0
IWH,Map Image Width/Height,2500,1250
