OziExplorer Map Data File Version 2.2
KENYA.PNG
F:\mapas\africa\Africa Este (rusos) 1-500.000\KENYA.PNG
1 ,Map Code,
WGS 84,, 0.0000, 0.0000,WGS 84
Reserved 1
Reserved 2
Magnetic Variation,,,E
Map Projection,Latitude/Longitude,PolyCal,Yes,AutoCalOnly,No,BSBUseWPX,No
Point01,xy, 298, 165,in, deg, 4, 0.0000,N, 36, 0.0000,E, grid, , , ,
Point02,xy, 514, 164,in, deg, 4, 0.0000,N, 38, 0.0000,E, grid, , , ,
Point03,xy, 728, 165,in, deg, 4, 0.0000,N, 40, 0.0000,E, grid, , , ,
Point04,xy, 298, 596,in, deg, 0, 0.0000,N, 36, 0.0000,E, grid, , , ,
Point05,xy, 513, 596,in, deg, 0, 0.0000,N, 38, 0.0000,E, grid, , , ,
Point06,xy, 728, 596,in, deg, 0, 0.0000,N, 40, 0.0000,E, grid, , , ,
Point07,xy, 296, 1027,in, deg, 4, 0.0000,S, 36, 0.0000,E, grid, , , ,
Point08,xy, 511, 1027,in, deg, 4, 0.0000,S, 38, 0.0000,E, grid, , , ,
Point09,xy, 727, 1028,in, deg, 4, 0.0000,S, 40, 0.0000,E, grid, , , ,
Point10,xy, , ,in, deg, , ,, , ,, grid, , , ,
Point11,xy, , ,in, deg, , ,, , ,, grid, , , ,
Point12,xy, , ,in, deg, , ,, , ,, grid, , , ,
Point13,xy, , ,in, deg, , ,, , ,, grid, , , ,
Point14,xy, , ,in, deg, , ,, , ,, grid, , , ,
Point15,xy, , ,in, deg, , ,, , ,, grid, , , ,
Point16,xy, , ,in, deg, , ,, , ,, grid, , , ,
Point17,xy, , ,in, deg, , ,, , ,, grid, , , ,
Point18,xy, , ,in, deg, , ,, , ,, grid, , , ,
Point19,xy, , ,in, deg, , ,, , ,, grid, , , ,
Point20,xy, , ,in, deg, , ,, , ,, grid, , , ,
Point21,xy, , ,in, deg, , ,, , ,, grid, , , ,
Point22,xy, , ,in, deg, , ,, , ,, grid, , , ,
Point23,xy, , ,in, deg, , ,, , ,, grid, , , ,
Point24,xy, , ,in, deg, , ,, , ,, grid, , , ,
Point25,xy, , ,in, deg, , ,, , ,, grid, , , ,
Point26,xy, , ,in, deg, , ,, , ,, grid, , , ,
Point27,xy, , ,in, deg, , ,, , ,, grid, , , ,
Point28,xy, , ,in, deg, , ,, , ,, grid, , , ,
Point29,xy, , ,in, deg, , ,, , ,, grid, , , ,
Point30,xy, , ,in, deg, , ,, , ,, grid, , , ,
Projection Setup,,,,,,,,,,
Map Feature = MF ; Map Comment = MC These follow if they exist
Track File = TF These follow if they exist
Moving Map Parameters = MM? These follow if they exist
MM0,Yes
MMPNUM,4
MMPXY,1,1,0
MMPXY,2,974,0
MMPXY,3,973,1178
MMPXY,4,0,1176
MMPLL,1, 33.240002, 5.554204
MMPLL,2, 42.297103, 5.541781
MMPLL,3, 42.298815, -5.368877
MMPLL,4, 33.270235, -5.366841
MM1B,1026.742828
LL Grid Setup
LLGRID,No,No Grid,Yes,255,16711680,0,No Labels,0,16777215,7,1,Yes,x
Other Grid Setup
GRGRID,No,No Grid,Yes,255,16711680,No Labels,0,16777215,8,1,Yes,No,No,x
MOP,Map Open Position,0,0
IWH,Map Image Width/Height,2500,1250
