OziExplorer Map Data File Version 2.2
IVORY_COAST.PNG
F:\mapas\africa\Africa Este (rusos) 1-500.000\IVORY_COAST.PNG
1 ,Map Code,
WGS 84,, 0.0000, 0.0000,WGS 84
Reserved 1
Reserved 2
Magnetic Variation,,,E
Map Projection,Latitude/Longitude,PolyCal,Yes,AutoCalOnly,No,BSBUseWPX,No
Point01,xy, 151, 191,in, deg, 10, 0.0000,N, 8, 0.0000,W, grid, , , ,
Point02,xy, 429, 191,in, deg, 10, 0.0000,N, 6, 0.0000,W, grid, , , ,
Point03,xy, 708, 186,in, deg, 10, 0.0000,N, 4, 0.0000,W, grid, , , ,
Point04,xy, 148, 621,in, deg, 7, 0.0000,N, 8, 0.0000,W, grid, , , ,
Point05,xy, 432, 619,in, deg, 7, 0.0000,N, 6, 0.0000,W, grid, , , ,
Point06,xy, 717, 615,in, deg, 7, 0.0000,N, 4, 0.0000,W, grid, , , ,
Point07,xy, 146, 1052,in, deg, 4, 0.0000,N, 8, 0.0000,W, grid, , , ,
Point08,xy, 435, 1051,in, deg, 4, 0.0000,N, 6, 0.0000,W, grid, , , ,
Point09,xy, 723, 1045,in, deg, 4, 0.0000,N, 4, 0.0000,W, grid, , , ,
Point10,xy, , ,in, deg, , ,, , ,, grid, , , ,
Point11,xy, , ,in, deg, , ,, , ,, grid, , , ,
Point12,xy, , ,in, deg, , ,, , ,, grid, , , ,
Point13,xy, , ,in, deg, , ,, , ,, grid, , , ,
Point14,xy, , ,in, deg, , ,, , ,, grid, , , ,
Point15,xy, , ,in, deg, , ,, , ,, grid, , , ,
Point16,xy, , ,in, deg, , ,, , ,, grid, , , ,
Point17,xy, , ,in, deg, , ,, , ,, grid, , , ,
Point18,xy, , ,in, deg, , ,, , ,, grid, , , ,
Point19,xy, , ,in, deg, , ,, , ,, grid, , , ,
Point20,xy, , ,in, deg, , ,, , ,, grid, , , ,
Point21,xy, , ,in, deg, , ,, , ,, grid, , , ,
Point22,xy, , ,in, deg, , ,, , ,, grid, , , ,
Point23,xy, , ,in, deg, , ,, , ,, grid, , , ,
Point24,xy, , ,in, deg, , ,, , ,, grid, , , ,
Point25,xy, , ,in, deg, , ,, , ,, grid, , , ,
Point26,xy, , ,in, deg, , ,, , ,, grid, , , ,
Point27,xy, , ,in, deg, , ,, , ,, grid, , , ,
Point28,xy, , ,in, deg, , ,, , ,, grid, , , ,
Point29,xy, , ,in, deg, , ,, , ,, grid, , , ,
Point30,xy, , ,in, deg, , ,, , ,, grid, , , ,
Projection Setup,,,,,,,,,,
Map Feature = MF ; Map Comment = MC These follow if they exist
Track File = TF These follow if they exist
Moving Map Parameters = MM? These follow if they exist
MM0,Yes
MMPNUM,4
MMPXY,1,0,3
MMPXY,2,983,0
MMPXY,3,1018,1185
MMPXY,4,0,1201
MMPLL,1, -9.094883, 11.307939
MMPLL,2, -1.992392, 11.249187
MMPLL,3, -1.993156, 2.961115
MMPLL,4, -8.998218, 2.963867
MM1B,789.099258
LL Grid Setup
LLGRID,No,No Grid,Yes,255,16711680,0,No Labels,0,16777215,7,1,Yes,x
Other Grid Setup
GRGRID,No,No Grid,Yes,255,16711680,No Labels,0,16777215,8,1,Yes,No,No,x
MOP,Map Open Position,0,0
IWH,Map Image Width/Height,2500,1250
