OziExplorer Map Data File Version 2.2
HORN_OF_AFRICA.PNG
F:\mapas\africa\Africa Este (rusos) 1-500.000\HORN_OF_AFRICA.PNG
1 ,Map Code,
WGS 84,, 0.0000, 0.0000,WGS 84
Reserved 1
Reserved 2
Magnetic Variation,,,E
Map Projection,Latitude/Longitude,PolyCal,Yes,AutoCalOnly,No,BSBUseWPX,No
Point01,xy, 36, 8,in, deg, 20, 0.0000,N, 30, 0.0000,E, grid, , , ,
Point02,xy, 410, 8,in, deg, 20, 0.0000,N, 40, 0.0000,E, grid, , , ,
Point03,xy, 785, 8,in, deg, 20, 0.0000,N, 50, 0.0000,E, grid, , , ,
Point04,xy, 36, 398,in, deg, 10, 0.0000,N, 30, 0.0000,E, grid, , , ,
Point05,xy, 410, 398,in, deg, 10, 0.0000,N, 40, 0.0000,E, grid, , , ,
Point06,xy, 786, 397,in, deg, 10, 0.0000,N, 50, 0.0000,E, grid, , , ,
Point07,xy, 36, 776,in, deg, 0, 0.0000,N, 30, 0.0000,E, grid, , , ,
Point08,xy, 410, 775,in, deg, 0, 0.0000,N, 40, 0.0000,E, grid, , , ,
Point09,xy, 784, 775,in, deg, 0, 0.0000,N, 50, 0.0000,E, grid, , , ,
Point10,xy, , ,in, deg, , ,, , ,, grid, , , ,
Point11,xy, , ,in, deg, , ,, , ,, grid, , , ,
Point12,xy, , ,in, deg, , ,, , ,, grid, , , ,
Point13,xy, , ,in, deg, , ,, , ,, grid, , , ,
Point14,xy, , ,in, deg, , ,, , ,, grid, , , ,
Point15,xy, , ,in, deg, , ,, , ,, grid, , , ,
Point16,xy, , ,in, deg, , ,, , ,, grid, , , ,
Point17,xy, , ,in, deg, , ,, , ,, grid, , , ,
Point18,xy, , ,in, deg, , ,, , ,, grid, , , ,
Point19,xy, , ,in, deg, , ,, , ,, grid, , , ,
Point20,xy, , ,in, deg, , ,, , ,, grid, , , ,
Point21,xy, , ,in, deg, , ,, , ,, grid, , , ,
Point22,xy, , ,in, deg, , ,, , ,, grid, , , ,
Point23,xy, , ,in, deg, , ,, , ,, grid, , , ,
Point24,xy, , ,in, deg, , ,, , ,, grid, , , ,
Point25,xy, , ,in, deg, , ,, , ,, grid, , , ,
Point26,xy, , ,in, deg, , ,, , ,, grid, , , ,
Point27,xy, , ,in, deg, , ,, , ,, grid, , , ,
Point28,xy, , ,in, deg, , ,, , ,, grid, , , ,
Point29,xy, , ,in, deg, , ,, , ,, grid, , , ,
Point30,xy, , ,in, deg, , ,, , ,, grid, , , ,
Projection Setup,,,,,,,,,,
Map Feature = MF ; Map Comment = MC These follow if they exist
Track File = TF These follow if they exist
Moving Map Parameters = MM? These follow if they exist
MM0,Yes
MMPNUM,4
MMPXY,1,0,0
MMPXY,2,978,0
MMPXY,3,976,1062
MMPXY,4,0,1064
MMPLL,1, 29.043967, 20.204293
MMPLL,2, 55.126490, 20.199135
MMPLL,3, 55.142443, -7.843917
MMPLL,4, 29.064614, -7.843047
MM1B,2790.956663
LL Grid Setup
LLGRID,No,No Grid,Yes,255,16711680,0,No Labels,0,16777215,7,1,Yes,x
Other Grid Setup
GRGRID,No,No Grid,Yes,255,16711680,No Labels,0,16777215,8,1,Yes,No,No,x
MOP,Map Open Position,0,0
IWH,Map Image Width/Height,2500,1250
