OziExplorer Map Data File Version 2.2
GAMBIA.PNG
F:\mapas\africa\Africa Este (rusos) 1-500.000\GAMBIA.PNG
1 ,Map Code,
WGS 84,, 0.0000, 0.0000,WGS 84
Reserved 1
Reserved 2
Magnetic Variation,,,E
Map Projection,Latitude/Longitude,PolyCal,Yes,AutoCalOnly,No,BSBUseWPX,No
Point01,xy, 375, 426,in, deg, 14, 0.0000,N, 16, 0.0000,W, grid, , , ,
Point02,xy, 619, 424,in, deg, 14, 0.0000,N, 15, 0.0000,W, grid, , , ,
Point03,xy, 863, 422,in, deg, 14, 0.0000,N, 14, 0.0000,W, grid, , , ,
Point04,xy, 375, 678,in, deg, 13, 0.0000,N, 16, 0.0000,W, grid, , , ,
Point05,xy, 621, 677,in, deg, 13, 0.0000,N, 15, 0.0000,W, grid, , , ,
Point06,xy, 867, 676,in, deg, 13, 0.0000,N, 14, 0.0000,W, grid, , , ,
Point07,xy, 375, 931,in, deg, 12, 0.0000,N, 16, 0.0000,W, grid, , , ,
Point08,xy, 623, 930,in, deg, 12, 0.0000,N, 15, 0.0000,W, grid, , , ,
Point09,xy, 871, 929,in, deg, 12, 0.0000,N, 14, 0.0000,W, grid, , , ,
Point10,xy, , ,in, deg, , ,, , ,, grid, , , ,
Point11,xy, , ,in, deg, , ,, , ,, grid, , , ,
Point12,xy, , ,in, deg, , ,, , ,, grid, , , ,
Point13,xy, , ,in, deg, , ,, , ,, grid, , , ,
Point14,xy, , ,in, deg, , ,, , ,, grid, , , ,
Point15,xy, , ,in, deg, , ,, , ,, grid, , , ,
Point16,xy, , ,in, deg, , ,, , ,, grid, , , ,
Point17,xy, , ,in, deg, , ,, , ,, grid, , , ,
Point18,xy, , ,in, deg, , ,, , ,, grid, , , ,
Point19,xy, , ,in, deg, , ,, , ,, grid, , , ,
Point20,xy, , ,in, deg, , ,, , ,, grid, , , ,
Point21,xy, , ,in, deg, , ,, , ,, grid, , , ,
Point22,xy, , ,in, deg, , ,, , ,, grid, , , ,
Point23,xy, , ,in, deg, , ,, , ,, grid, , , ,
Point24,xy, , ,in, deg, , ,, , ,, grid, , , ,
Point25,xy, , ,in, deg, , ,, , ,, grid, , , ,
Point26,xy, , ,in, deg, , ,, , ,, grid, , , ,
Point27,xy, , ,in, deg, , ,, , ,, grid, , , ,
Point28,xy, , ,in, deg, , ,, , ,, grid, , , ,
Point29,xy, , ,in, deg, , ,, , ,, grid, , , ,
Point30,xy, , ,in, deg, , ,, , ,, grid, , , ,
Projection Setup,,,,,,,,,,
Map Feature = MF ; Map Comment = MC These follow if they exist
Track File = TF These follow if they exist
Moving Map Parameters = MM? These follow if they exist
MM0,Yes
MMPNUM,4
MMPXY,1,0,0
MMPXY,2,972,0
MMPXY,3,995,1188
MMPXY,4,0,1189
MMPLL,1, -17.558640, 15.703041
MMPLL,2, -13.519522, 15.660304
MMPLL,3, -13.520430, 10.978351
MMPLL,4, -17.499754, 10.979477
MM1B,444.900909
LL Grid Setup
LLGRID,No,No Grid,Yes,255,16711680,0,No Labels,0,16777215,7,1,Yes,x
Other Grid Setup
GRGRID,No,No Grid,Yes,255,16711680,No Labels,0,16777215,8,1,Yes,No,No,x
MOP,Map Open Position,0,0
IWH,Map Image Width/Height,2500,1250
