OziExplorer Map Data File Version 2.2
ETHIOPIA.PNG
F:\mapas\africa\Africa Este (rusos) 1-500.000\ETHIOPIA.PNG
1 ,Map Code,
WGS 84,, 0.0000, 0.0000,WGS 84
Reserved 1
Reserved 2
Magnetic Variation,,,E
Map Projection,Latitude/Longitude,PolyCal,Yes,AutoCalOnly,No,BSBUseWPX,No
Point01,xy, 113, 154,in, deg, 18, 0.0000,N, 34, 0.0000,E, grid, , , ,
Point02,xy, 469, 153,in, deg, 18, 0.0000,N, 40, 0.0000,E, grid, , , ,
Point03,xy, 830, 152,in, deg, 18, 0.0000,N, 46, 0.0000,E, grid, , , ,
Point04,xy, 113, 523,in, deg, 12, 0.0000,N, 34, 0.0000,E, grid, , , ,
Point05,xy, 470, 522,in, deg, 12, 0.0000,N, 40, 0.0000,E, grid, , , ,
Point06,xy, 827, 522,in, deg, 12, 0.0000,N, 46, 0.0000,E, grid, , , ,
Point07,xy, 113, 888,in, deg, 6, 0.0000,N, 34, 0.0000,E, grid, , , ,
Point08,xy, 469, 886,in, deg, 6, 0.0000,N, 40, 0.0000,E, grid, , , ,
Point09,xy, 826, 886,in, deg, 6, 0.0000,N, 46, 0.0000,E, grid, , , ,
Point10,xy, , ,in, deg, , ,, , ,, grid, , , ,
Point11,xy, , ,in, deg, , ,, , ,, grid, , , ,
Point12,xy, , ,in, deg, , ,, , ,, grid, , , ,
Point13,xy, , ,in, deg, , ,, , ,, grid, , , ,
Point14,xy, , ,in, deg, , ,, , ,, grid, , , ,
Point15,xy, , ,in, deg, , ,, , ,, grid, , , ,
Point16,xy, , ,in, deg, , ,, , ,, grid, , , ,
Point17,xy, , ,in, deg, , ,, , ,, grid, , , ,
Point18,xy, , ,in, deg, , ,, , ,, grid, , , ,
Point19,xy, , ,in, deg, , ,, , ,, grid, , , ,
Point20,xy, , ,in, deg, , ,, , ,, grid, , , ,
Point21,xy, , ,in, deg, , ,, , ,, grid, , , ,
Point22,xy, , ,in, deg, , ,, , ,, grid, , , ,
Point23,xy, , ,in, deg, , ,, , ,, grid, , , ,
Point24,xy, , ,in, deg, , ,, , ,, grid, , , ,
Point25,xy, , ,in, deg, , ,, , ,, grid, , , ,
Point26,xy, , ,in, deg, , ,, , ,, grid, , , ,
Point27,xy, , ,in, deg, , ,, , ,, grid, , , ,
Point28,xy, , ,in, deg, , ,, , ,, grid, , , ,
Point29,xy, , ,in, deg, , ,, , ,, grid, , , ,
Point30,xy, , ,in, deg, , ,, , ,, grid, , , ,
Projection Setup,,,,,,,,,,
Map Feature = MF ; Map Comment = MC These follow if they exist
Track File = TF These follow if they exist
Moving Map Parameters = MM? These follow if they exist
MM0,Yes
MMPNUM,4
MMPXY,1,0,1
MMPXY,2,979,0
MMPXY,3,972,1170
MMPXY,4,0,1172
MMPLL,1, 32.105725, 20.472143
MMPLL,2, 48.475144, 20.453826
MMPLL,3, 48.469262, 1.267402
MMPLL,4, 32.070410, 1.269995
MM1B,1752.531630
LL Grid Setup
LLGRID,No,No Grid,Yes,255,16711680,0,No Labels,0,16777215,7,1,Yes,x
Other Grid Setup
GRGRID,No,No Grid,Yes,255,16711680,No Labels,0,16777215,8,1,Yes,No,No,x
MOP,Map Open Position,0,0
IWH,Map Image Width/Height,2500,1250
