OziExplorer Map Data File Version 2.2
EQ_GUINEA.PNG
F:\mapas\africa\Africa Este (rusos) 1-500.000\EQ_GUINEA.PNG
1 ,Map Code,
WGS 84,, 0.0000, 0.0000,WGS 84
Reserved 1
Reserved 2
Magnetic Variation,,,E
Map Projection,Latitude/Longitude,PolyCal,Yes,AutoCalOnly,No,BSBUseWPX,No
Point01,xy, 81, 69,in, deg, 4, 0.0000,N, 8, 0.0000,E, grid, , , ,
Point02,xy, 596, 69,in, deg, 4, 0.0000,N, 9, 30.0000,E, grid, , , ,
Point03,xy, 1111, 70,in, deg, 4, 0.0000,N, 11, 0.0000,E, grid, , , ,
Point04,xy, 82, 753,in, deg, 2, 0.0000,N, 8, 0.0000,E, grid, , , ,
Point05,xy, 597, 753,in, deg, 2, 0.0000,N, 9, 30.0000,E, grid, , , ,
Point06,xy, 1112, 753,in, deg, 2, 0.0000,N, 11, 0.0000,E, grid, , , ,
Point07,xy, 84, 1435,in, deg, 0, 0.0000,N, 8, 0.0000,E, grid, , , ,
Point08,xy, 598, 1435,in, deg, 0, 0.0000,N, 9, 30.0000,E, grid, , , ,
Point09,xy, 1113, 1436,in, deg, 0, 0.0000,N, 11, 0.0000,E, grid, , , ,
Point10,xy, , ,in, deg, , ,, , ,, grid, , , ,
Point11,xy, , ,in, deg, , ,, , ,, grid, , , ,
Point12,xy, , ,in, deg, , ,, , ,, grid, , , ,
Point13,xy, , ,in, deg, , ,, , ,, grid, , , ,
Point14,xy, , ,in, deg, , ,, , ,, grid, , , ,
Point15,xy, , ,in, deg, , ,, , ,, grid, , , ,
Point16,xy, , ,in, deg, , ,, , ,, grid, , , ,
Point17,xy, , ,in, deg, , ,, , ,, grid, , , ,
Point18,xy, , ,in, deg, , ,, , ,, grid, , , ,
Point19,xy, , ,in, deg, , ,, , ,, grid, , , ,
Point20,xy, , ,in, deg, , ,, , ,, grid, , , ,
Point21,xy, , ,in, deg, , ,, , ,, grid, , , ,
Point22,xy, , ,in, deg, , ,, , ,, grid, , , ,
Point23,xy, , ,in, deg, , ,, , ,, grid, , , ,
Point24,xy, , ,in, deg, , ,, , ,, grid, , , ,
Point25,xy, , ,in, deg, , ,, , ,, grid, , , ,
Point26,xy, , ,in, deg, , ,, , ,, grid, , , ,
Point27,xy, , ,in, deg, , ,, , ,, grid, , , ,
Point28,xy, , ,in, deg, , ,, , ,, grid, , , ,
Point29,xy, , ,in, deg, , ,, , ,, grid, , , ,
Point30,xy, , ,in, deg, , ,, , ,, grid, , , ,
Projection Setup,,,,,,,,,,
Map Feature = MF ; Map Comment = MC These follow if they exist
Track File = TF These follow if they exist
Moving Map Parameters = MM? These follow if they exist
MM0,Yes
MMPNUM,4
MMPXY,1,0,0
MMPXY,2,1305,0
MMPXY,3,1307,1607
MMPXY,4,0,1606
MMPLL,1, 7.764358, 4.202138
MMPLL,2, 11.564260, 4.205146
MMPLL,3, 11.564278, -0.501244
MMPLL,4, 7.754197, -0.501322
MM1B,322.924985
LL Grid Setup
LLGRID,No,No Grid,Yes,255,16711680,0,No Labels,0,16777215,7,1,Yes,x
Other Grid Setup
GRGRID,No,No Grid,Yes,255,16711680,No Labels,0,16777215,8,1,Yes,No,No,x
MOP,Map Open Position,0,0
IWH,Map Image Width/Height,2500,1250
