OziExplorer Map Data File Version 2.2
CONGO.PNG
F:\mapas\africa\Africa Este (rusos) 1-500.000\CONGO.PNG
1 ,Map Code,
WGS 84,, 0.0000, 0.0000,WGS 84
Reserved 1
Reserved 2
Magnetic Variation,,,E
Map Projection,Latitude/Longitude,PolyCal,Yes,AutoCalOnly,No,BSBUseWPX,No
Point01,xy, 170, 162,in, deg, 3, 0.0000,N, 12, 0.0000,E, grid, , , ,
Point02,xy, 496, 161,in, deg, 3, 0.0000,N, 15, 0.0000,E, grid, , , ,
Point03,xy, 824, 161,in, deg, 3, 0.0000,N, 18, 0.0000,E, grid, , , ,
Point04,xy, 169, 493,in, deg, 0, 0.0000,N, 12, 0.0000,E, grid, , , ,
Point05,xy, 496, 492,in, deg, 0, 0.0000,N, 15, 0.0000,E, grid, , , ,
Point06,xy, 824, 491,in, deg, 0, 0.0000,N, 18, 0.0000,E, grid, , , ,
Point07,xy, 171, 821,in, deg, 3, 0.0000,S, 12, 0.0000,E, grid, , , ,
Point08,xy, 497, 821,in, deg, 3, 0.0000,S, 15, 0.0000,E, grid, , , ,
Point09,xy, 823, 820,in, deg, 3, 0.0000,S, 18, 0.0000,E, grid, , , ,
Point10,xy, , ,in, deg, , ,, , ,, grid, , , ,
Point11,xy, , ,in, deg, , ,, , ,, grid, , , ,
Point12,xy, , ,in, deg, , ,, , ,, grid, , , ,
Point13,xy, , ,in, deg, , ,, , ,, grid, , , ,
Point14,xy, , ,in, deg, , ,, , ,, grid, , , ,
Point15,xy, , ,in, deg, , ,, , ,, grid, , , ,
Point16,xy, , ,in, deg, , ,, , ,, grid, , , ,
Point17,xy, , ,in, deg, , ,, , ,, grid, , , ,
Point18,xy, , ,in, deg, , ,, , ,, grid, , , ,
Point19,xy, , ,in, deg, , ,, , ,, grid, , , ,
Point20,xy, , ,in, deg, , ,, , ,, grid, , , ,
Point21,xy, , ,in, deg, , ,, , ,, grid, , , ,
Point22,xy, , ,in, deg, , ,, , ,, grid, , , ,
Point23,xy, , ,in, deg, , ,, , ,, grid, , , ,
Point24,xy, , ,in, deg, , ,, , ,, grid, , , ,
Point25,xy, , ,in, deg, , ,, , ,, grid, , , ,
Point26,xy, , ,in, deg, , ,, , ,, grid, , , ,
Point27,xy, , ,in, deg, , ,, , ,, grid, , , ,
Point28,xy, , ,in, deg, , ,, , ,, grid, , , ,
Point29,xy, , ,in, deg, , ,, , ,, grid, , , ,
Point30,xy, , ,in, deg, , ,, , ,, grid, , , ,
Projection Setup,,,,,,,,,,
Map Feature = MF ; Map Comment = MC These follow if they exist
Track File = TF These follow if they exist
Moving Map Parameters = MM? These follow if they exist
MM0,Yes
MMPNUM,4
MMPXY,1,0,0
MMPXY,2,979,0
MMPXY,3,977,1134
MMPXY,4,0,1136
MMPLL,1, 10.439106, 4.466303
MMPLL,2, 19.405738, 4.448332
MMPLL,3, 19.397763, -5.886191
MMPLL,4, 10.401968, -5.886199
MM1B,1018.385858
LL Grid Setup
LLGRID,No,No Grid,Yes,255,16711680,0,No Labels,0,16777215,7,1,Yes,x
Other Grid Setup
GRGRID,No,No Grid,Yes,255,16711680,No Labels,0,16777215,8,1,Yes,No,No,x
MOP,Map Open Position,0,0
IWH,Map Image Width/Height,2500,1250
