OziExplorer Map Data File Version 2.2
BURUNDI_RWANDA.PNG
F:\mapas\africa\Africa Este (rusos) 1-500.000\BURUNDI_RWANDA.PNG
1 ,Map Code,
WGS 84,, 0.0000, 0.0000,WGS 84
Reserved 1
Reserved 2
Magnetic Variation,,,E
Map Projection,Latitude/Longitude,PolyCal,Yes,AutoCalOnly,No,BSBUseWPX,No
Point01,xy, 119, 336,in, deg, 2, 0.0000,S, 29, 0.0000,E, grid, , , ,
Point02,xy, 436, 336,in, deg, 2, 0.0000,S, 30, 0.0000,E, grid, , , ,
Point03,xy, 753, 336,in, deg, 2, 0.0000,S, 31, 0.0000,E, grid, , , ,
Point04,xy, 119, 660,in, deg, 3, 0.0000,S, 29, 0.0000,E, grid, , , ,
Point05,xy, 436, 660,in, deg, 3, 0.0000,S, 30, 0.0000,E, grid, , , ,
Point06,xy, 753, 661,in, deg, 3, 0.0000,S, 31, 0.0000,E, grid, , , ,
Point07,xy, 119, 985,in, deg, 4, 0.0000,S, 29, 0.0000,E, grid, , , ,
Point08,xy, 438, 986,in, deg, 4, 0.0000,S, 30, 0.0000,E, grid, , , ,
Point09,xy, 754, 986,in, deg, 4, 0.0000,S, 31, 0.0000,E, grid, , , ,
Point10,xy, , ,in, deg, , ,, , ,, grid, , , ,
Point11,xy, , ,in, deg, , ,, , ,, grid, , , ,
Point12,xy, , ,in, deg, , ,, , ,, grid, , , ,
Point13,xy, , ,in, deg, , ,, , ,, grid, , , ,
Point14,xy, , ,in, deg, , ,, , ,, grid, , , ,
Point15,xy, , ,in, deg, , ,, , ,, grid, , , ,
Point16,xy, , ,in, deg, , ,, , ,, grid, , , ,
Point17,xy, , ,in, deg, , ,, , ,, grid, , , ,
Point18,xy, , ,in, deg, , ,, , ,, grid, , , ,
Point19,xy, , ,in, deg, , ,, , ,, grid, , , ,
Point20,xy, , ,in, deg, , ,, , ,, grid, , , ,
Point21,xy, , ,in, deg, , ,, , ,, grid, , , ,
Point22,xy, , ,in, deg, , ,, , ,, grid, , , ,
Point23,xy, , ,in, deg, , ,, , ,, grid, , , ,
Point24,xy, , ,in, deg, , ,, , ,, grid, , , ,
Point25,xy, , ,in, deg, , ,, , ,, grid, , , ,
Point26,xy, , ,in, deg, , ,, , ,, grid, , , ,
Point27,xy, , ,in, deg, , ,, , ,, grid, , , ,
Point28,xy, , ,in, deg, , ,, , ,, grid, , , ,
Point29,xy, , ,in, deg, , ,, , ,, grid, , , ,
Point30,xy, , ,in, deg, , ,, , ,, grid, , , ,
Projection Setup,,,,,,,,,,
Map Feature = MF ; Map Comment = MC These follow if they exist
Track File = TF These follow if they exist
Moving Map Parameters = MM? These follow if they exist
MM0,Yes
MMPNUM,4
MMPXY,1,2,2
MMPXY,2,867,1
MMPXY,3,869,1163
MMPXY,4,2,1161
MMPLL,1, 28.628037, -0.966213
MMPLL,2, 31.359629, -0.964599
MMPLL,3, 31.359252, -4.540799
MMPLL,4, 28.629040, -4.540682
MM1B,349.694313
LL Grid Setup
LLGRID,No,No Grid,Yes,255,16711680,0,No Labels,0,16777215,7,1,Yes,x
Other Grid Setup
GRGRID,No,No Grid,Yes,255,16711680,No Labels,0,16777215,8,1,Yes,No,No,x
MOP,Map Open Position,0,0
IWH,Map Image Width/Height,2500,1250
