OziExplorer Map Data File Version 2.2
BOTSWANA.PNG
F:\mapas\africa\Africa Este (rusos) 1-500.000\BOTSWANA.PNG
1 ,Map Code,
WGS 84,, 0.0000, 0.0000,WGS 84
Reserved 1
Reserved 2
Magnetic Variation,,,E
Map Projection,Latitude/Longitude,PolyCal,Yes,AutoCalOnly,No,BSBUseWPX,No
Point01,xy, 53, 457,in, deg, 20, 0.0000,S, 20, 0.0000,E, grid, , , ,
Point02,xy, 548, 448,in, deg, 20, 0.0000,S, 24, 0.0000,E, grid, , , ,
Point03,xy, 1045, 451,in, deg, 20, 0.0000,S, 28, 0.0000,E, grid, , , ,
Point04,xy, 67, 985,in, deg, 24, 0.0000,S, 20, 0.0000,E, grid, , , ,
Point05,xy, 551, 977,in, deg, 24, 0.0000,S, 24, 0.0000,E, grid, , , ,
Point06,xy, 1036, 980,in, deg, 24, 0.0000,S, 28, 0.0000,E, grid, , , ,
Point07,xy, 82, 1517,in, deg, 28, 0.0000,S, 20, 0.0000,E, grid, , , ,
Point08,xy, 554, 1510,in, deg, 28, 0.0000,S, 24, 0.0000,E, grid, , , ,
Point09,xy, 1027, 1512,in, deg, 28, 0.0000,S, 28, 0.0000,E, grid, , , ,
Point10,xy, , ,in, deg, , ,, , ,, grid, , , ,
Point11,xy, , ,in, deg, , ,, , ,, grid, , , ,
Point12,xy, , ,in, deg, , ,, , ,, grid, , , ,
Point13,xy, , ,in, deg, , ,, , ,, grid, , , ,
Point14,xy, , ,in, deg, , ,, , ,, grid, , , ,
Point15,xy, , ,in, deg, , ,, , ,, grid, , , ,
Point16,xy, , ,in, deg, , ,, , ,, grid, , , ,
Point17,xy, , ,in, deg, , ,, , ,, grid, , , ,
Point18,xy, , ,in, deg, , ,, , ,, grid, , , ,
Point19,xy, , ,in, deg, , ,, , ,, grid, , , ,
Point20,xy, , ,in, deg, , ,, , ,, grid, , , ,
Point21,xy, , ,in, deg, , ,, , ,, grid, , , ,
Point22,xy, , ,in, deg, , ,, , ,, grid, , , ,
Point23,xy, , ,in, deg, , ,, , ,, grid, , , ,
Point24,xy, , ,in, deg, , ,, , ,, grid, , , ,
Point25,xy, , ,in, deg, , ,, , ,, grid, , , ,
Point26,xy, , ,in, deg, , ,, , ,, grid, , , ,
Point27,xy, , ,in, deg, , ,, , ,, grid, , , ,
Point28,xy, , ,in, deg, , ,, , ,, grid, , , ,
Point29,xy, , ,in, deg, , ,, , ,, grid, , , ,
Point30,xy, , ,in, deg, , ,, , ,, grid, , , ,
Projection Setup,,,,,,,,,,
Map Feature = MF ; Map Comment = MC These follow if they exist
Track File = TF These follow if they exist
Moving Map Parameters = MM? These follow if they exist
MM0,Yes
MMPNUM,4
MMPXY,1,0,0
MMPXY,2,1354,0
MMPXY,3,1305,1601
MMPXY,4,0,1601
MMPLL,1, 19.679133, -16.511604
MMPLL,2, 30.368800, -16.519828
MMPLL,3, 30.363308, -28.612529
MMPLL,4, 19.282003, -28.608709
MM1B,843.833099
LL Grid Setup
LLGRID,No,No Grid,Yes,255,16711680,0,No Labels,0,16777215,7,1,Yes,x
Other Grid Setup
GRGRID,No,No Grid,Yes,255,16711680,No Labels,0,16777215,8,1,Yes,No,No,x
MOP,Map Open Position,0,0
IWH,Map Image Width/Height,2500,1250
