OziExplorer Map Data File Version 2.2
ANGOLA.PNG
F:\mapas\africa\Africa Este (rusos) 1-500.000\ANGOLA.PNG
1 ,Map Code,
WGS 84,, 0.0000, 0.0000,WGS 84
Reserved 1
Reserved 2
Magnetic Variation,,,E
Map Projection,Latitude/Longitude,PolyCal,Yes,AutoCalOnly,No,BSBUseWPX,No
Point01,xy, 26, 191,in, deg, 6, 0.0000,S, 12, 0.0000,E, grid, , , ,
Point02,xy, 450, 185,in, deg, 6, 0.0000,S, 18, 0.0000,E, grid, , , ,
Point03,xy, 878, 187,in, deg, 6, 0.0000,S, 24, 0.0000,E, grid, , , ,
Point04,xy, 40, 615,in, deg, 12, 0.0000,S, 12, 0.0000,E, grid, , , ,
Point05,xy, 450, 609,in, deg, 12, 0.0000,S, 18, 0.0000,E, grid, , , ,
Point06,xy, 862, 615,in, deg, 12, 0.0000,S, 24, 0.0000,E, grid, , , ,
Point07,xy, 54, 1033,in, deg, 18, 0.0000,S, 12, 0.0000,E, grid, , , ,
Point08,xy, 449, 1029,in, deg, 18, 0.0000,S, 18, 0.0000,E, grid, , , ,
Point09,xy, 848, 1033,in, deg, 18, 0.0000,S, 24, 0.0000,E, grid, , , ,
Point10,xy, , ,in, deg, , ,, , ,, grid, , , ,
Point11,xy, , ,in, deg, , ,, , ,, grid, , , ,
Point12,xy, , ,in, deg, , ,, , ,, grid, , , ,
Point13,xy, , ,in, deg, , ,, , ,, grid, , , ,
Point14,xy, , ,in, deg, , ,, , ,, grid, , , ,
Point15,xy, , ,in, deg, , ,, , ,, grid, , , ,
Point16,xy, , ,in, deg, , ,, , ,, grid, , , ,
Point17,xy, , ,in, deg, , ,, , ,, grid, , , ,
Point18,xy, , ,in, deg, , ,, , ,, grid, , , ,
Point19,xy, , ,in, deg, , ,, , ,, grid, , , ,
Point20,xy, , ,in, deg, , ,, , ,, grid, , , ,
Point21,xy, , ,in, deg, , ,, , ,, grid, , , ,
Point22,xy, , ,in, deg, , ,, , ,, grid, , , ,
Point23,xy, , ,in, deg, , ,, , ,, grid, , , ,
Point24,xy, , ,in, deg, , ,, , ,, grid, , , ,
Point25,xy, , ,in, deg, , ,, , ,, grid, , , ,
Point26,xy, , ,in, deg, , ,, , ,, grid, , , ,
Point27,xy, , ,in, deg, , ,, , ,, grid, , , ,
Point28,xy, , ,in, deg, , ,, , ,, grid, , , ,
Point29,xy, , ,in, deg, , ,, , ,, grid, , , ,
Point30,xy, , ,in, deg, , ,, , ,, grid, , , ,
Projection Setup,,,,,,,,,,
Map Feature = MF ; Map Comment = MC These follow if they exist
Track File = TF These follow if they exist
Moving Map Parameters = MM? These follow if they exist
MM0,Yes
MMPNUM,4
MMPXY,1,0,1
MMPXY,2,1025,0
MMPXY,3,968,1222
MMPXY,4,0,1218
MMPLL,1, 11.719818, -3.337439
MMPLL,2, 25.932659, -3.350584
MMPLL,3, 25.929485, -20.671534
MMPLL,4, 11.062112, -20.669270
MM1B,1549.199378
LL Grid Setup
LLGRID,No,No Grid,Yes,255,16711680,0,No Labels,0,16777215,7,1,Yes,x
Other Grid Setup
GRGRID,No,No Grid,Yes,255,16711680,No Labels,0,16777215,8,1,Yes,No,No,x
MOP,Map Open Position,0,0
IWH,Map Image Width/Height,2500,1250
