OziExplorer Map Data File Version 2.2
Map-029.jpg
D:\Greece\Map-029.jpg
1 ,Map Code,
WGS 84,WGS 84, 0.0000, 0.0000,WGS 84
Reserved 1
Reserved 2
Magnetic Variation,,,E
Map Projection,Latitude/Longitude,PolyCal,No,AutoCalOnly,No,BSBUseWPX,No
Point01,xy, 144, 226,in, deg, 37, 35.5554,N, 22, 2.3262,E, grid, , , ,N
Point02,xy, 3253, 554,in, deg, 37, 32.9754,N, 22, 42.843,E, grid, , , ,N
Point03,xy, 6359, 408,in, deg, 37, 34.911,N, 23, 23.1762,E, grid, , , ,N
Point04,xy, 6424, 2767,in, deg, 37, 9.4032,N, 24, 30.1818,E, grid, , , ,N
Point05,xy, 87, 2762,in, deg, 37, 9.3342,N, 22, 2.4654,E, grid, , , ,N
Point06,xy, 4353, 4355,in, deg, 36, 53.6478,N, 22, 57.696,E, grid, , , ,N
Point07,xy, 2922, 2206,in, deg, 37, 15.891,N, 22, 38.964,E, grid, , , ,N
Point08,xy, , ,in, deg, , ,N, , ,W, grid, , , ,N
Point09,xy, , ,in, deg, , ,N, , ,W, grid, , , ,N
Point10,xy, , ,in, deg, , ,, , ,, grid, , , ,
Point11,xy, , ,in, deg, , ,, , ,, grid, , , ,
Point12,xy, , ,in, deg, , ,, , ,, grid, , , ,
Point13,xy, , ,in, deg, , ,, , ,, grid, , , ,
Point14,xy, , ,in, deg, , ,, , ,, grid, , , ,
Point15,xy, , ,in, deg, , ,, , ,, grid, , , ,
Point16,xy, , ,in, deg, , ,, , ,, grid, , , ,
Point17,xy, , ,in, deg, , ,, , ,, grid, , , ,
Point18,xy, , ,in, deg, , ,, , ,, grid, , , ,
Point19,xy, , ,in, deg, , ,, , ,, grid, , , ,
Point20,xy, , ,in, deg, , ,, , ,, grid, , , ,
Point21,xy, , ,in, deg, , ,, , ,, grid, , , ,
Point22,xy, , ,in, deg, , ,, , ,, grid, , , ,
Point23,xy, , ,in, deg, , ,, , ,, grid, , , ,
Point24,xy, , ,in, deg, , ,, , ,, grid, , , ,
Point25,xy, , ,in, deg, , ,, , ,, grid, , , ,
Point26,xy, , ,in, deg, , ,, , ,, grid, , , ,
Point27,xy, , ,in, deg, , ,, , ,, grid, , , ,
Point28,xy, , ,in, deg, , ,, , ,, grid, , , ,
Point29,xy, , ,in, deg, , ,, , ,, grid, , , ,
Point30,xy, , ,in, deg, , ,, , ,, grid, , , ,
Projection Setup,,,,,,,,,,
Map Feature = MF ; Map Comment = MC These follow if they exist
Track File = TF These follow if they exist
Moving Map Parameters = MM? These follow if they exist
MM0,Yes
MMPNUM,4
MMPXY,1,0,0
MMPXY,2,6804,0
MMPXY,3,6804,4676
MMPXY,4,0,4676
MMPLL,1, 21.682054, 37.638608
MMPLL,2, 23.961671, 37.646643
MMPLL,3, 24.184344, 36.835700
MMPLL,4, 21.904727, 36.827665
MM1B,29.719728
MOP,Map Open Position,0,0
IWH,Map Image Width/Height,6804,4676
