OziExplorer Map Data File Version 2.2
Map-025.jpg
D:\Greece\Map-025.jpg
1 ,Map Code,
WGS 84,WGS 84, 0.0000, 0.0000,WGS 84
Reserved 1
Reserved 2
Magnetic Variation,,,E
Map Projection,Latitude/Longitude,PolyCal,No,AutoCalOnly,No,BSBUseWPX,No
Point01,xy, 162, 309,in, deg, 38, 22.9086,N, 21, 41.1108,E, grid, , , ,N
Point02,xy, 3341, 424,in, deg, 38, 22.56,N, 22, 22.9272,E, grid, , , ,N
Point03,xy, 6535, 570,in, deg, 38, 21.4608,N, 23, 4.9038,E, grid, , , ,N
Point04,xy, 6410, 4431,in, deg, 37, 41.3712,N, 23, 4.0122,E, grid, , , ,N
Point05,xy, 3224, 4492,in, deg, 37, 40.1856,N, 22, 22.5564,E, grid, , , ,N
Point06,xy, 202, 4199,in, deg, 37, 42.6174,N, 21, 43.23,E, grid, , , ,N
Point07,xy, 3359, 2184,in, deg, 38, 4.32,N, 22, 23.595,E, grid, , , ,N
Point08,xy, 903, 2235,in, deg, 38, 2.979,N, 21, 51.3768,E, grid, , , ,N
Point09,xy, , ,in, deg, , ,N, , ,W, grid, , , ,N
Point10,xy, , ,in, deg, , ,, , ,, grid, , , ,
Point11,xy, , ,in, deg, , ,, , ,, grid, , , ,
Point12,xy, , ,in, deg, , ,, , ,, grid, , , ,
Point13,xy, , ,in, deg, , ,, , ,, grid, , , ,
Point14,xy, , ,in, deg, , ,, , ,, grid, , , ,
Point15,xy, , ,in, deg, , ,, , ,, grid, , , ,
Point16,xy, , ,in, deg, , ,, , ,, grid, , , ,
Point17,xy, , ,in, deg, , ,, , ,, grid, , , ,
Point18,xy, , ,in, deg, , ,, , ,, grid, , , ,
Point19,xy, , ,in, deg, , ,, , ,, grid, , , ,
Point20,xy, , ,in, deg, , ,, , ,, grid, , , ,
Point21,xy, , ,in, deg, , ,, , ,, grid, , , ,
Point22,xy, , ,in, deg, , ,, , ,, grid, , , ,
Point23,xy, , ,in, deg, , ,, , ,, grid, , , ,
Point24,xy, , ,in, deg, , ,, , ,, grid, , , ,
Point25,xy, , ,in, deg, , ,, , ,, grid, , , ,
Point26,xy, , ,in, deg, , ,, , ,, grid, , , ,
Point27,xy, , ,in, deg, , ,, , ,, grid, , , ,
Point28,xy, , ,in, deg, , ,, , ,, grid, , , ,
Point29,xy, , ,in, deg, , ,, , ,, grid, , , ,
Point30,xy, , ,in, deg, , ,, , ,, grid, , , ,
Projection Setup,,,,,,,,,,
Map Feature = MF ; Map Comment = MC These follow if they exist
Track File = TF These follow if they exist
Moving Map Parameters = MM? These follow if they exist
MM0,Yes
MMPNUM,4
MMPXY,1,0,0
MMPXY,2,6804,0
MMPXY,3,6804,4676
MMPXY,4,0,4676
MMPLL,1, 21.650874, 38.435852
MMPLL,2, 23.134155, 38.458747
MMPLL,3, 23.157281, 37.649474
MMPLL,4, 21.674000, 37.626579
MM1B,19.124463
MOP,Map Open Position,0,0
IWH,Map Image Width/Height,6804,4676
