OziExplorer Map Data File Version 2.2
Map-016.jpg
D:\Greece\Map-016.jpg
1 ,Map Code,
WGS 84,WGS 84, 0.0000, 0.0000,WGS 84
Reserved 1
Reserved 2
Magnetic Variation,,,E
Map Projection,Latitude/Longitude,PolyCal,No,AutoCalOnly,No,BSBUseWPX,No
Point01,xy, 223, 726,in, deg, 38, 51.3138,N, 23, 2.727,E, grid, , , ,N
Point02,xy, 1862, 282,in, deg, 38, 55.7358,N, 23, 24.3,E, grid, , , ,N
Point03,xy, 6056, 487,in, deg, 37, 57.7278,N, 24, 44.5218,E, grid, , , ,N
Point04,xy, 5149, 2687,in, deg, 38, 30.1056,N, 24, 7.3398,E, grid, , , ,N
Point05,xy, 1011, 2391,in, deg, 38, 34.0146,N, 23, 12.8484,E, grid, , , ,N
Point06,xy, 265, 4576,in, deg, 38, 11.8632,N, 23, 2.9394,E, grid, , , ,N
Point07,xy, 3638, 4292,in, deg, 38, 14.3136,N, 23, 47.1492,E, grid, , , ,N
Point08,xy, 6472, 4086,in, deg, 37, 23.7174,N, 24, 57.1086,E, grid, , , ,N
Point09,xy, , ,in, deg, , ,N, , ,W, grid, , , ,N
Point10,xy, , ,in, deg, , ,, , ,, grid, , , ,
Point11,xy, , ,in, deg, , ,, , ,, grid, , , ,
Point12,xy, , ,in, deg, , ,, , ,, grid, , , ,
Point13,xy, , ,in, deg, , ,, , ,, grid, , , ,
Point14,xy, , ,in, deg, , ,, , ,, grid, , , ,
Point15,xy, , ,in, deg, , ,, , ,, grid, , , ,
Point16,xy, , ,in, deg, , ,, , ,, grid, , , ,
Point17,xy, , ,in, deg, , ,, , ,, grid, , , ,
Point18,xy, , ,in, deg, , ,, , ,, grid, , , ,
Point19,xy, , ,in, deg, , ,, , ,, grid, , , ,
Point20,xy, , ,in, deg, , ,, , ,, grid, , , ,
Point21,xy, , ,in, deg, , ,, , ,, grid, , , ,
Point22,xy, , ,in, deg, , ,, , ,, grid, , , ,
Point23,xy, , ,in, deg, , ,, , ,, grid, , , ,
Point24,xy, , ,in, deg, , ,, , ,, grid, , , ,
Point25,xy, , ,in, deg, , ,, , ,, grid, , , ,
Point26,xy, , ,in, deg, , ,, , ,, grid, , , ,
Point27,xy, , ,in, deg, , ,, , ,, grid, , , ,
Point28,xy, , ,in, deg, , ,, , ,, grid, , , ,
Point29,xy, , ,in, deg, , ,, , ,, grid, , , ,
Point30,xy, , ,in, deg, , ,, , ,, grid, , , ,
Projection Setup,,,,,,,,,,
Map Feature = MF ; Map Comment = MC These follow if they exist
Track File = TF These follow if they exist
Moving Map Parameters = MM? These follow if they exist
MM0,Yes
MMPNUM,4
MMPXY,1,0,0
MMPXY,2,6804,0
MMPXY,3,6804,4676
MMPXY,4,0,4676
MMPLL,1, 22.877431, 39.146062
MMPLL,2, 24.838551, 38.260408
MMPLL,3, 24.882552, 37.467791
MMPLL,4, 22.921431, 38.353444
MM1B,25.667064
MOP,Map Open Position,0,0
IWH,Map Image Width/Height,6804,4676
