OziExplorer Map Data File Version 2.2
Map-015.jpg
D:\Greece\Map-015.jpg
1 ,Map Code,
WGS 84,WGS 84, 0.0000, 0.0000,WGS 84
Reserved 1
Reserved 2
Magnetic Variation,,,E
Map Projection,Latitude/Longitude,PolyCal,No,AutoCalOnly,No,BSBUseWPX,No
Point01,xy, 279, 465,in, deg, 38, 52.524,N, 21, 39.7866,E, grid, , , ,N
Point02,xy, 3495, 356,in, deg, 38, 54.2286,N, 22, 22.311,E, grid, , , ,N
Point03,xy, 6556, 510,in, deg, 38, 52.6098,N, 23, 2.8314,E, grid, , , ,N
Point04,xy, 6514, 2216,in, deg, 38, 35.0922,N, 23, 2.4828,E, grid, , , ,N
Point05,xy, 3402, 2153,in, deg, 38, 35.6676,N, 22, 21.4362,E, grid, , , ,N
Point06,xy, 180, 2383,in, deg, 38, 32.7756,N, 21, 39.0216,E, grid, , , ,N
Point07,xy, 342, 4532,in, deg, 38, 10.9392,N, 21, 41.2302,E, grid, , , ,N
Point08,xy, 6629, 4195,in, deg, 38, 14.826,N, 23, 4.1358,E, grid, , , ,N
Point09,xy, , ,in, deg, , ,N, , ,W, grid, , , ,N
Point10,xy, , ,in, deg, , ,, , ,, grid, , , ,
Point11,xy, , ,in, deg, , ,, , ,, grid, , , ,
Point12,xy, , ,in, deg, , ,, , ,, grid, , , ,
Point13,xy, , ,in, deg, , ,, , ,, grid, , , ,
Point14,xy, , ,in, deg, , ,, , ,, grid, , , ,
Point15,xy, , ,in, deg, , ,, , ,, grid, , , ,
Point16,xy, , ,in, deg, , ,, , ,, grid, , , ,
Point17,xy, , ,in, deg, , ,, , ,, grid, , , ,
Point18,xy, , ,in, deg, , ,, , ,, grid, , , ,
Point19,xy, , ,in, deg, , ,, , ,, grid, , , ,
Point20,xy, , ,in, deg, , ,, , ,, grid, , , ,
Point21,xy, , ,in, deg, , ,, , ,, grid, , , ,
Point22,xy, , ,in, deg, , ,, , ,, grid, , , ,
Point23,xy, , ,in, deg, , ,, , ,, grid, , , ,
Point24,xy, , ,in, deg, , ,, , ,, grid, , , ,
Point25,xy, , ,in, deg, , ,, , ,, grid, , , ,
Point26,xy, , ,in, deg, , ,, , ,, grid, , , ,
Point27,xy, , ,in, deg, , ,, , ,, grid, , , ,
Point28,xy, , ,in, deg, , ,, , ,, grid, , , ,
Point29,xy, , ,in, deg, , ,, , ,, grid, , , ,
Point30,xy, , ,in, deg, , ,, , ,, grid, , , ,
Projection Setup,,,,,,,,,,
Map Feature = MF ; Map Comment = MC These follow if they exist
Track File = TF These follow if they exist
Moving Map Parameters = MM? These follow if they exist
MM0,Yes
MMPNUM,4
MMPXY,1,0,0
MMPXY,2,6804,0
MMPXY,3,6804,4676
MMPXY,4,0,4676
MMPLL,1, 21.602974, 38.956254
MMPLL,2, 23.099905, 38.965772
MMPLL,3, 23.109897, 38.165398
MMPLL,4, 21.612967, 38.155880
MM1B,19.166920
MOP,Map Open Position,0,0
IWH,Map Image Width/Height,6804,4676
