OziExplorer Map Data File Version 2.2
Map-012.jpg
D:\Greece\Map-012.jpg
1 ,Map Code,
WGS 84,WGS 84, 0.0000, 0.0000,WGS 84
Reserved 1
Reserved 2
Magnetic Variation,,,E
Map Projection,Latitude/Longitude,PolyCal,No,AutoCalOnly,No,BSBUseWPX,No
Point01,xy, 724, 684,in, deg, 40, 3.7104,N, 20, 34.194,E, grid, , , ,N
Point02,xy, 3547, 311,in, deg, 40, 8.3544,N, 21, 12.0408,E, grid, , , ,N
Point03,xy, 6524, 422,in, deg, 40, 7.884,N, 21, 52.1892,E, grid, , , ,N
Point04,xy, 6403, 2305,in, deg, 39, 48.2808,N, 21, 51.0822,E, grid, , , ,N
Point05,xy, 3386, 2434,in, deg, 39, 46.2414,N, 21, 10.6098,E, grid, , , ,N
Point06,xy, 194, 2508,in, deg, 39, 44.577,N, 20, 27.7842,E, grid, , , ,N
Point07,xy, 186, 4384,in, deg, 39, 25.1436,N, 20, 28.5696,E, grid, , , ,N
Point08,xy, 3570, 4319,in, deg, 39, 26.7594,N, 21, 13.7448,E, grid, , , ,N
Point09,xy, , ,in, deg, 39, 26.3928,N, 21, 52.0152,E, grid, , , ,N
Point10,xy, , ,in, deg, , ,, , ,, grid, , , ,
Point11,xy, , ,in, deg, , ,, , ,, grid, , , ,
Point12,xy, , ,in, deg, , ,, , ,, grid, , , ,
Point13,xy, , ,in, deg, , ,, , ,, grid, , , ,
Point14,xy, , ,in, deg, , ,, , ,, grid, , , ,
Point15,xy, , ,in, deg, , ,, , ,, grid, , , ,
Point16,xy, , ,in, deg, , ,, , ,, grid, , , ,
Point17,xy, , ,in, deg, , ,, , ,, grid, , , ,
Point18,xy, , ,in, deg, , ,, , ,, grid, , , ,
Point19,xy, , ,in, deg, , ,, , ,, grid, , , ,
Point20,xy, , ,in, deg, , ,, , ,, grid, , , ,
Point21,xy, , ,in, deg, , ,, , ,, grid, , , ,
Point22,xy, , ,in, deg, , ,, , ,, grid, , , ,
Point23,xy, , ,in, deg, , ,, , ,, grid, , , ,
Point24,xy, , ,in, deg, , ,, , ,, grid, , , ,
Point25,xy, , ,in, deg, , ,, , ,, grid, , , ,
Point26,xy, , ,in, deg, , ,, , ,, grid, , , ,
Point27,xy, , ,in, deg, , ,, , ,, grid, , , ,
Point28,xy, , ,in, deg, , ,, , ,, grid, , , ,
Point29,xy, , ,in, deg, , ,, , ,, grid, , , ,
Point30,xy, , ,in, deg, , ,, , ,, grid, , , ,
Projection Setup,,,,,,,,,,
Map Feature = MF ; Map Comment = MC These follow if they exist
Track File = TF These follow if they exist
Moving Map Parameters = MM? These follow if they exist
MM0,Yes
MMPNUM,4
MMPXY,1,0,0
MMPXY,2,6804,0
MMPXY,3,6804,4676
MMPXY,4,0,4676
MMPLL,1, 20.404696, 40.176959
MMPLL,2, 21.927747, 40.206004
MMPLL,3, 21.956689, 39.397039
MMPLL,4, 20.433638, 39.367994
MM1B,19.165521
MOP,Map Open Position,0,0
IWH,Map Image Width/Height,6804,4676
