OziExplorer Map Data File Version 2.2
Map-011.jpg
D:\Greece\Map-011.jpg
1 ,Map Code,
WGS 84,WGS 84, 0.0000, 0.0000,WGS 84
Reserved 1
Reserved 2
Magnetic Variation,,,E
Map Projection,Latitude/Longitude,PolyCal,No,AutoCalOnly,No,BSBUseWPX,No
Point01,xy, 514, 180,in, deg, 40, 10.1274,N, 21, 51.6756,E, grid, , , ,N
Point02,xy, 2140, 837,in, deg, 40, 3.8316,N, 22, 13.8768,E, grid, , , ,N
Point03,xy, 3610, 153,in, deg, 40, 11.268,N, 22, 33.4764,E, grid, , , ,N
Point04,xy, 4643, 2676,in, deg, 39, 45.0306,N, 22, 47.82,E, grid, , , ,N
Point05,xy, 6070, 4591,in, deg, 39, 25.3764,N, 23, 7.0434,E, grid, , , ,N
Point06,xy, 141, 4329,in, deg, 39, 27.1878,N, 21, 48.1758,E, grid, , , ,N
Point07,xy, 3207, 4445,in, deg, 39, 26.4942,N, 22, 28.896,E, grid, , , ,N
Point08,xy, 2366, 2730,in, deg, 39, 44.2764,N, 22, 17.304,E, grid, , , ,N
Point09,xy, 142, 2464,in, deg, 39, 46.4562,N, 21, 47.433,E, grid, , , ,N
Point10,xy, , ,in, deg, , ,, , ,, grid, , , ,
Point11,xy, , ,in, deg, , ,, , ,, grid, , , ,
Point12,xy, , ,in, deg, , ,, , ,, grid, , , ,
Point13,xy, , ,in, deg, , ,, , ,, grid, , , ,
Point14,xy, , ,in, deg, , ,, , ,, grid, , , ,
Point15,xy, , ,in, deg, , ,, , ,, grid, , , ,
Point16,xy, , ,in, deg, , ,, , ,, grid, , , ,
Point17,xy, , ,in, deg, , ,, , ,, grid, , , ,
Point18,xy, , ,in, deg, , ,, , ,, grid, , , ,
Point19,xy, , ,in, deg, , ,, , ,, grid, , , ,
Point20,xy, , ,in, deg, , ,, , ,, grid, , , ,
Point21,xy, , ,in, deg, , ,, , ,, grid, , , ,
Point22,xy, , ,in, deg, , ,, , ,, grid, , , ,
Point23,xy, , ,in, deg, , ,, , ,, grid, , , ,
Point24,xy, , ,in, deg, , ,, , ,, grid, , , ,
Point25,xy, , ,in, deg, , ,, , ,, grid, , , ,
Point26,xy, , ,in, deg, , ,, , ,, grid, , , ,
Point27,xy, , ,in, deg, , ,, , ,, grid, , , ,
Point28,xy, , ,in, deg, , ,, , ,, grid, , , ,
Point29,xy, , ,in, deg, , ,, , ,, grid, , , ,
Point30,xy, , ,in, deg, , ,, , ,, grid, , , ,
Projection Setup,,,,,,,,,,
Map Feature = MF ; Map Comment = MC These follow if they exist
Track File = TF These follow if they exist
Moving Map Parameters = MM? These follow if they exist
MM0,Yes
MMPNUM,4
MMPXY,1,0,0
MMPXY,2,6804,0
MMPXY,3,6804,4676
MMPXY,4,0,4676
MMPLL,1, 21.750480, 40.201468
MMPLL,2, 23.265304, 40.221654
MMPLL,3, 23.284203, 39.411855
MMPLL,4, 21.769378, 39.391669
MM1B,19.053248
MOP,Map Open Position,0,0
IWH,Map Image Width/Height,6804,4676
