OziExplorer Map Data File Version 2.2
Map-005.jpg
D:\Greece\Map-005.jpg
1 ,Map Code,
WGS 84,WGS 84, 0.0000, 0.0000,WGS 84
Reserved 1
Reserved 2
Magnetic Variation,,,E
Map Projection,Latitude/Longitude,PolyCal,No,AutoCalOnly,No,BSBUseWPX,No
Point01,xy, 570, 320,in, deg, 40, 33.6174,N, 21, 58.2528,E, grid, , , ,N
Point02,xy, 3290, 369,in, deg, 40, 33.864,N, 22, 35.2752,E, grid, , , ,N
Point03,xy, 6377, 391,in, deg, 40, 34.1406,N, 23, 17.0598,E, grid, , , ,N
Point04,xy, 6447, 3178,in, deg, 40, 5.5086,N, 23, 18.588,E, grid, , , ,N
Point05,xy, 3049, 4493,in, deg, 39, 51.1446,N, 22, 33.4176,E, grid, , , ,N
Point06,xy, 459, 3850,in, deg, 39, 57.1242,N, 21, 58.4082,E, grid, , , ,N
Point07,xy, 501, 1327,in, deg, 40, 23.2152,N, 21, 57.8244,E, grid, , , ,N
Point08,xy, 2957, 2088,in, deg, 40, 16.0656,N, 22, 31.3284,E, grid, , , ,N
Point09,xy, 5991, 1928,in, deg, 40, 18.3876,N, 23, 12.2154,E, grid, , , ,N
Point10,xy, , ,in, deg, , ,, , ,, grid, , , ,
Point11,xy, , ,in, deg, , ,, , ,, grid, , , ,
Point12,xy, , ,in, deg, , ,, , ,, grid, , , ,
Point13,xy, , ,in, deg, , ,, , ,, grid, , , ,
Point14,xy, , ,in, deg, , ,, , ,, grid, , , ,
Point15,xy, , ,in, deg, , ,, , ,, grid, , , ,
Point16,xy, , ,in, deg, , ,, , ,, grid, , , ,
Point17,xy, , ,in, deg, , ,, , ,, grid, , , ,
Point18,xy, , ,in, deg, , ,, , ,, grid, , , ,
Point19,xy, , ,in, deg, , ,, , ,, grid, , , ,
Point20,xy, , ,in, deg, , ,, , ,, grid, , , ,
Point21,xy, , ,in, deg, , ,, , ,, grid, , , ,
Point22,xy, , ,in, deg, , ,, , ,, grid, , , ,
Point23,xy, , ,in, deg, , ,, , ,, grid, , , ,
Point24,xy, , ,in, deg, , ,, , ,, grid, , , ,
Point25,xy, , ,in, deg, , ,, , ,, grid, , , ,
Point26,xy, , ,in, deg, , ,, , ,, grid, , , ,
Point27,xy, , ,in, deg, , ,, , ,, grid, , , ,
Point28,xy, , ,in, deg, , ,, , ,, grid, , , ,
Point29,xy, , ,in, deg, , ,, , ,, grid, , , ,
Point30,xy, , ,in, deg, , ,, , ,, grid, , , ,
Projection Setup,,,,,,,,,,
Map Feature = MF ; Map Comment = MC These follow if they exist
Track File = TF These follow if they exist
Moving Map Parameters = MM? These follow if they exist
MM0,Yes
MMPNUM,4
MMPXY,1,0,0
MMPXY,2,6804,0
MMPXY,3,6804,4676
MMPXY,4,0,4676
MMPLL,1, 21.843957, 40.613618
MMPLL,2, 23.374951, 40.640182
MMPLL,3, 23.402986, 39.835705
MMPLL,4, 21.871992, 39.809141
MM1B,19.137196
MOP,Map Open Position,0,0
IWH,Map Image Width/Height,6804,4676
