OziExplorer Map Data File Version 2.2
Map-004.jpg
D:\Greece\Map-004.jpg
1 ,Map Code,
WGS 84,WGS 84, 0.0000, 0.0000,WGS 84
Reserved 1
Reserved 2
Magnetic Variation,,,E
Map Projection,Latitude/Longitude,PolyCal,No,AutoCalOnly,No,BSBUseWPX,No
Point01,xy, 1164, 560,in, deg, 40, 30.4338,N, 20, 42.2514,E, grid, , , ,N
Point02,xy, 3586, 505,in, deg, 40, 31.3584,N, 21, 15.5172,E, grid, , , ,N
Point03,xy, 6218, 719,in, deg, 40, 29.6982,N, 21, 51.1380,E, grid, , , ,N
Point04,xy, 5945, 4020,in, deg, 39, 55.4988,N, 21, 48.4740,E, grid, , , ,N
Point05,xy, 689, 4082,in, deg, 39, 53.3202,N, 20, 37.4982,E, grid, , , ,N
Point06,xy, 3597, 4124,in, deg, 39, 53.7666,N, 21, 16.8582,E, grid, , , ,N
Point07,xy, 2474, 2204,in, deg, 40, 13.2906,N, 21, 1.3482,E, grid, , , ,N
Point08,xy, 4983, 2200,in, deg, 40, 14.3634,N, 21, 34.6404,E, grid, , , ,N
Point09,xy, , ,in, deg, , ,N, , ,W, grid, , , ,N
Point10,xy, , ,in, deg, , ,, , ,, grid, , , ,
Point11,xy, , ,in, deg, , ,, , ,, grid, , , ,
Point12,xy, , ,in, deg, , ,, , ,, grid, , , ,
Point13,xy, , ,in, deg, , ,, , ,, grid, , , ,
Point14,xy, , ,in, deg, , ,, , ,, grid, , , ,
Point15,xy, , ,in, deg, , ,, , ,, grid, , , ,
Point16,xy, , ,in, deg, , ,, , ,, grid, , , ,
Point17,xy, , ,in, deg, , ,, , ,, grid, , , ,
Point18,xy, , ,in, deg, , ,, , ,, grid, , , ,
Point19,xy, , ,in, deg, , ,, , ,, grid, , , ,
Point20,xy, , ,in, deg, , ,, , ,, grid, , , ,
Point21,xy, , ,in, deg, , ,, , ,, grid, , , ,
Point22,xy, , ,in, deg, , ,, , ,, grid, , , ,
Point23,xy, , ,in, deg, , ,, , ,, grid, , , ,
Point24,xy, , ,in, deg, , ,, , ,, grid, , , ,
Point25,xy, , ,in, deg, , ,, , ,, grid, , , ,
Point26,xy, , ,in, deg, , ,, , ,, grid, , , ,
Point27,xy, , ,in, deg, , ,, , ,, grid, , , ,
Point28,xy, , ,in, deg, , ,, , ,, grid, , , ,
Point29,xy, , ,in, deg, , ,, , ,, grid, , , ,
Point30,xy, , ,in, deg, , ,, , ,, grid, , , ,
Projection Setup,,,,,,,,,,
Map Feature = MF ; Map Comment = MC These follow if they exist
Track File = TF These follow if they exist
Moving Map Parameters = MM? These follow if they exist
MM0,Yes
MMPNUM,4
MMPXY,1,0,0
MMPXY,2,6804,0
MMPXY,3,6804,4676
MMPXY,4,0,4676
MMPLL,1, 20.443882, 40.596083
MMPLL,2, 21.978413, 40.625280
MMPLL,3, 22.007568, 39.813663
MMPLL,4, 20.473037, 39.784466
MM1B,19.192404
MOP,Map Open Position,0,0
IWH,Map Image Width/Height,6804,4676
