OziExplorer Map Data File Version 2.1
Lacblancbonhommekaysesberg.bmp
D:\Maps\Oziexplorer\LacBlancBonhommeKaysesberg.bmp
1 TIFF scale factor
WGS 84,WGS 84, 0.0000, 0.0000,WGS 84
Reserved 1
Reserved 2
Magnetic Variation,,,E
Map Projection,Latitude/Longitude,PolyCal,No,AutoCalOnly,No,BSBUseWPX,Yes
Point01,xy, 0, 0,in, deg, 48, 14.3956,N, 6, 54.9322,E, grid, , , ,N
Point02,xy, 6000, 0,in, deg, 48, 13.4119,N, 7, 19.1118,E, grid, , , ,N
Point03,xy, 6000, 4000,in, deg, 48, 2.6431,N, 7, 18.0926,E, grid, , , ,N
Point04,xy, 0, 4000,in, deg, 48, 3.6235,N, 6, 53.9951,E, grid, , , ,N
Point05,xy, , ,in, deg, , ,N, , ,E, grid, , , ,N
Point06,xy, , ,in, deg, , ,N, , ,E, grid, , , ,N
Point07,xy, , ,in, deg, , ,N, , ,E, grid, , , ,N
Point08,xy, , ,in, deg, , ,N, , ,E, grid, , , ,N
Point09,xy, , ,in, deg, , ,N, , ,E, grid, , , ,N
Point10,xy, , ,in, deg, , ,, , ,, grid, , , ,
Point11,xy, , ,in, deg, , ,, , ,, grid, , , ,
Point12,xy, , ,in, deg, , ,, , ,, grid, , , ,
Point13,xy, , ,in, deg, , ,, , ,, grid, , , ,
Point14,xy, , ,in, deg, , ,, , ,, grid, , , ,
Point15,xy, , ,in, deg, , ,, , ,, grid, , , ,
Point16,xy, , ,in, deg, , ,, , ,, grid, , , ,
Point17,xy, , ,in, deg, , ,, , ,, grid, , , ,
Point18,xy, , ,in, deg, , ,, , ,, grid, , , ,
Point19,xy, , ,in, deg, , ,, , ,, grid, , , ,
Point20,xy, , ,in, deg, , ,, , ,, grid, , , ,
Point21,xy, , ,in, deg, , ,, , ,, grid, , , ,
Point22,xy, , ,in, deg, , ,, , ,, grid, , , ,
Point23,xy, , ,in, deg, , ,, , ,, grid, , , ,
Point24,xy, , ,in, deg, , ,, , ,, grid, , , ,
Point25,xy, , ,in, deg, , ,, , ,, grid, , , ,
Point26,xy, , ,in, deg, , ,, , ,, grid, , , ,
Point27,xy, , ,in, deg, , ,, , ,, grid, , , ,
Point28,xy, , ,in, deg, , ,, , ,, grid, , , ,
Point29,xy, , ,in, deg, , ,, , ,, grid, , , ,
Point30,xy, , ,in, deg, , ,, , ,, grid, , , ,
Projection Setup, 45.000000000, 5.000000000, 0.999600000, 0.00, 0.00, 49.000000000, 45.000000000,,,
Map Feature = MF ; Map Comment = MC These follow if they exist
Track File = TF These follow if they exist
Moving Map Parameters = MM? These follow if they exist
MM0,Yes
MMPNUM,4
MMPXY,1,0,0
MMPXY,2,6000,0
MMPXY,3,6000,4000
MMPXY,4,0,4000
MMPLL,1, 6.915878, 48.239913
MMPLL,2, 7.318188, 48.223545
MMPLL,3, 7.301886, 48.044038
MMPLL,4, 6.899576, 48.060405
MM1B,4.969979
MOP,Map Open Position,0,0
IWH,Map Image Width/Height,6000,4000
