OziExplorer Map Data File Version 2.0
612.bmp
C:\Mapas\50\612.bmp
1 TIFF scale factor
European 1979
Reserved 1
Reserved 2
Magnetic Variation,,,E
Map Projection,(UTM) Universal Transverse Mercator
Point01,xy, 108, 66,in, deg, , ,N, , ,W, grid, 30, 627000, 4447000,N
Point02,xy, 90, 1249,in, deg, , ,N, , ,W, grid, 30, 627000, 4437000,N
Point03,xy, 77, 2077,in, deg, , ,N, , ,W, grid, 30, 627000, 4430000,N
Point04,xy, 1639, 94,in, deg, , ,N, , ,W, grid, 30, 640000, 4447000,N
Point05,xy, 1624, 1158,in, deg, , ,N, , ,W, grid, 30, 640000, 4438000,N
Point06,xy, 1609, 2105,in, deg, , ,N, , ,W, grid, 30, 640000, 4430000,N
Point07,xy, 3290, 122,in, deg, , ,N, , ,W, grid, 30, 654000, 4447000,N
Point08,xy, 3278, 1068,in, deg, , ,N, , ,W, grid, 30, 654000, 4439000,N
Point09,xy, 3262, 2014,in, deg, , ,N, , ,W, grid, 30, 654000, 4431000,N
Point10,xy, , ,in, deg, , ,, , ,, grid, , , ,
Point11,xy, , ,in, deg, , ,, , ,, grid, , , ,
Point12,xy, , ,in, deg, , ,, , ,, grid, , , ,
Point13,xy, , ,in, deg, , ,, , ,, grid, , , ,
Point14,xy, , ,in, deg, , ,, , ,, grid, , , ,
Point15,xy, , ,in, deg, , ,, , ,, grid, , , ,
Point16,xy, , ,in, deg, , ,, , ,, grid, , , ,
Point17,xy, , ,in, deg, , ,, , ,, grid, , , ,
Point18,xy, , ,in, deg, , ,, , ,, grid, , , ,
Point19,xy, , ,in, deg, , ,, , ,, grid, , , ,
Point20,xy, , ,in, deg, , ,, , ,, grid, , , ,
Point21,xy, , ,in, deg, , ,, , ,, grid, , , ,
Point22,xy, , ,in, deg, , ,, , ,, grid, , , ,
Point23,xy, , ,in, deg, , ,, , ,, grid, , , ,
Point24,xy, , ,in, deg, , ,, , ,, grid, , , ,
Point25,xy, , ,in, deg, , ,, , ,, grid, , , ,
Point26,xy, , ,in, deg, , ,, , ,, grid, , , ,
Point27,xy, , ,in, deg, , ,, , ,, grid, , , ,
Point28,xy, , ,in, deg, , ,, , ,, grid, , , ,
Point29,xy, , ,in, deg, , ,, , ,, grid, , , ,
Point30,xy, , ,in, deg, , ,, , ,, grid, , , ,
Projection Setup,,,,,,,
Map Feature = MF ; Map Comment = MC These follow if they exist
Track File = TF These follow if they exist Moving Map Stuff = MM? These follow if they exist
MM0,Yes MM1A,0,0,3358,0,0,2192,3358,2192 MM1C, -1.519436, 40.168091, -1.184978, 40.167835, -1.519684, 40.001218, -1.186201, 40.000909
MM1B,8.490344
