OziExplorer Map Data File Version 2.0
592.bmp
C:\Mapas\50\592.bmp
1 TIFF scale factor
European 1979
Reserved 1
Reserved 2
Magnetic Variation,,,E
Map Projection,(UTM) Universal Transverse Mercator
Point01,xy, 35, 110,in, deg, , ,N, , ,E, grid, 30, 711000, 4467000,N
Point02,xy, 121, 1176,in, deg, , ,N, , ,E, grid, 30, 712000, 4458000,N
Point03,xy, 93, 2121,in, deg, , ,N, , ,E, grid, 30, 712000, 4450000,N
Point04,xy, 1806, 48,in, deg, , ,N, , ,E, grid, 30, 726000, 4468000,N
Point05,xy, 1775, 1112,in, deg, , ,N, , ,E, grid, 30, 726000, 4459000,N
Point06,xy, 1624, 2173,in, deg, , ,N, , ,E, grid, 30, 725000, 4450000,N
Point07,xy, 3222, 93,in, deg, , ,N, , ,E, grid, 30, 738000, 4468000,N
Point08,xy, 3185, 1275,in, deg, , ,N, , ,E, grid, 30, 738000, 4458000,N
Point09,xy, 3279, 2106,in, deg, , ,N, , ,E, grid, 30, 739000, 4451000,N
Point10,xy, , ,in, deg, , ,, , ,, grid, , , ,
Point11,xy, , ,in, deg, , ,, , ,, grid, , , ,
Point12,xy, , ,in, deg, , ,, , ,, grid, , , ,
Point13,xy, , ,in, deg, , ,, , ,, grid, , , ,
Point14,xy, , ,in, deg, , ,, , ,, grid, , , ,
Point15,xy, , ,in, deg, , ,, , ,, grid, , , ,
Point16,xy, , ,in, deg, , ,, , ,, grid, , , ,
Point17,xy, , ,in, deg, , ,, , ,, grid, , , ,
Point18,xy, , ,in, deg, , ,, , ,, grid, , , ,
Point19,xy, , ,in, deg, , ,, , ,, grid, , , ,
Point20,xy, , ,in, deg, , ,, , ,, grid, , , ,
Point21,xy, , ,in, deg, , ,, , ,, grid, , , ,
Point22,xy, , ,in, deg, , ,, , ,, grid, , , ,
Point23,xy, , ,in, deg, , ,, , ,, grid, , , ,
Point24,xy, , ,in, deg, , ,, , ,, grid, , , ,
Point25,xy, , ,in, deg, , ,, , ,, grid, , , ,
Point26,xy, , ,in, deg, , ,, , ,, grid, , , ,
Point27,xy, , ,in, deg, , ,, , ,, grid, , , ,
Point28,xy, , ,in, deg, , ,, , ,, grid, , , ,
Point29,xy, , ,in, deg, , ,, , ,, grid, , , ,
Point30,xy, , ,in, deg, , ,, , ,, grid, , , ,
Projection Setup,,,,,,,
Map Feature = MF ; Map Comment = MC These follow if they exist
Track File = TF These follow if they exist Moving Map Stuff = MM? These follow if they exist
MM0,Yes MM1A,0,0,3348,0,0,2193,3348,2193 MM1C, -0.520005, 40.334541, -0.186068, 40.334977, -0.519595, 40.167434, -0.186348, 40.168098
MM1B,8.480622
