OziExplorer Map Data File Version 2.0
591.bmp
C:\Mapas\50\591.bmp
1 TIFF scale factor
European 1979
Reserved 1
Reserved 2
Magnetic Variation,,,E
Map Projection,(UTM) Universal Transverse Mercator
Point01,xy, 72, 26,in, deg, , ,N, , ,E, grid, 30, 683000, 4467000,N
Point02,xy, 48, 1087,in, deg, , ,N, , ,E, grid, 30, 683000, 4458000,N
Point03,xy, 143, 2150,in, deg, , ,N, , ,E, grid, 30, 684000, 4449000,N
Point04,xy, 1727, 67,in, deg, , ,N, , ,E, grid, 30, 697000, 4467000,N
Point05,xy, 1705, 1128,in, deg, , ,N, , ,E, grid, 30, 697000, 4458000,N
Point06,xy, 1684, 2070,in, deg, , ,N, , ,E, grid, 30, 697000, 4450000,N
Point07,xy, 3265, 103,in, deg, , ,N, , ,E, grid, 30, 710000, 4467000,N
Point08,xy, 3247, 1045,in, deg, , ,N, , ,E, grid, 30, 710000, 4459000,N
Point09,xy, 3224, 2105,in, deg, , ,N, , ,E, grid, 30, 710000, 4450000,N
Point10,xy, , ,in, deg, , ,, , ,, grid, , , ,
Point11,xy, , ,in, deg, , ,, , ,, grid, , , ,
Point12,xy, , ,in, deg, , ,, , ,, grid, , , ,
Point13,xy, , ,in, deg, , ,, , ,, grid, , , ,
Point14,xy, , ,in, deg, , ,, , ,, grid, , , ,
Point15,xy, , ,in, deg, , ,, , ,, grid, , , ,
Point16,xy, , ,in, deg, , ,, , ,, grid, , , ,
Point17,xy, , ,in, deg, , ,, , ,, grid, , , ,
Point18,xy, , ,in, deg, , ,, , ,, grid, , , ,
Point19,xy, , ,in, deg, , ,, , ,, grid, , , ,
Point20,xy, , ,in, deg, , ,, , ,, grid, , , ,
Point21,xy, , ,in, deg, , ,, , ,, grid, , , ,
Point22,xy, , ,in, deg, , ,, , ,, grid, , , ,
Point23,xy, , ,in, deg, , ,, , ,, grid, , , ,
Point24,xy, , ,in, deg, , ,, , ,, grid, , , ,
Point25,xy, , ,in, deg, , ,, , ,, grid, , , ,
Point26,xy, , ,in, deg, , ,, , ,, grid, , , ,
Point27,xy, , ,in, deg, , ,, , ,, grid, , , ,
Point28,xy, , ,in, deg, , ,, , ,, grid, , , ,
Point29,xy, , ,in, deg, , ,, , ,, grid, , , ,
Point30,xy, , ,in, deg, , ,, , ,, grid, , , ,
Projection Setup,,,,,,,
Map Feature = MF ; Map Comment = MC These follow if they exist
Track File = TF These follow if they exist Moving Map Stuff = MM? These follow if they exist
MM0,Yes MM1A,0,0,3366,0,0,2185,3366,2185 MM1C, -0.852952, 40.334777, -0.518156, 40.334257, -0.853370, 40.167850, -0.519822, 40.167239
MM1B,8.456313
